BEGIN:VCALENDAR
VERSION:2.0
PRODID:-// - ECPv6.15.20//NONSGML v1.0//EN
CALSCALE:GREGORIAN
METHOD:PUBLISH
X-ORIGINAL-URL:https://stoagallica.fr
X-WR-CALDESC:Évènements pour 
REFRESH-INTERVAL;VALUE=DURATION:PT1H
X-Robots-Tag:noindex
X-PUBLISHED-TTL:PT1H
BEGIN:VTIMEZONE
TZID:Europe/Paris
BEGIN:DAYLIGHT
TZOFFSETFROM:+0100
TZOFFSETTO:+0200
TZNAME:CEST
DTSTART:20240331T010000
END:DAYLIGHT
BEGIN:STANDARD
TZOFFSETFROM:+0200
TZOFFSETTO:+0100
TZNAME:CET
DTSTART:20241027T010000
END:STANDARD
BEGIN:DAYLIGHT
TZOFFSETFROM:+0100
TZOFFSETTO:+0200
TZNAME:CEST
DTSTART:20250330T010000
END:DAYLIGHT
BEGIN:STANDARD
TZOFFSETFROM:+0200
TZOFFSETTO:+0100
TZNAME:CET
DTSTART:20251026T010000
END:STANDARD
BEGIN:DAYLIGHT
TZOFFSETFROM:+0100
TZOFFSETTO:+0200
TZNAME:CEST
DTSTART:20260329T010000
END:DAYLIGHT
BEGIN:STANDARD
TZOFFSETFROM:+0200
TZOFFSETTO:+0100
TZNAME:CET
DTSTART:20261025T010000
END:STANDARD
END:VTIMEZONE
BEGIN:VEVENT
DTSTART;TZID=Europe/Paris:20251122T090000
DTEND;TZID=Europe/Paris:20251122T180000
DTSTAMP:20260425T010106
CREATED:20250701T131107Z
LAST-MODIFIED:20251105T093836Z
UID:6846-1763802000-1763834400@stoagallica.fr
SUMMARY:Journée stoïcienne 2025 : apprendre à vivre ses émotions avec les stoïciens
DESCRIPTION:Rejoignez-nous dans cette nouvelle édition de la Journée stoïcienne (anciennement appelée Stoicon-x Paris) pour apprendre à vivre ses émotions. Conférences\, ateliers pratiques et moments de discussions collectives ou en petits groupes rythmeront la journée !\n\nCette année\, nous travaillerons sur nos émotions\, pour vivre en plus grande adéquation avec soi-même\, les autres et le monde. L’importance donnée aux ateliers pratiques vous permettra d’apprendre à reconnaître les émotions qui vous traversent et à les envisager sous un angle stoïcien. Comment déraciner les émotions destructrices ? Comment cultiver les émotions dites rationnelles ?\n\n \n Places limitées : réservez vos billets \n \n\n PROGRAMME\n\nÀ partir de 9h\nBienvenue à la Journée stoïcienne 2025 ! \n\n9h30\nIntroduction\npar Maël Goarzin\, président de Stoa Gallica.\n\n9h45 – 10h45\nLe plaisir et la joie dans le stoïcisme\npar Jean-Baptiste Gourinat\, Directeur de recherche au CNRS (Centre Léon Robin)\, spécialiste du stoïcisme ainsi que de l’histoire de la logique et de la dialectique dans la philosophie antique.\n\n10h45 – 11h\nPause\n\n11h – 11h40\nAteliers pratiques (un atelier à choix)\n\n \n\n 	De l’émotion à l’action juste: repères stoïciens face aux violences sexistes et sexuelles\, par Alexandra Bommart\, formatrice en prévention des violences sexistes et sexuelles\n \n 	Aimer sans s’attacher: un paradoxe stoïcien\, par Jean-Baptiste Roncari & Olivier Martel\, fondateurs et animateurs du Portique Stoa Gallica de Paris\n\n11h45 – 12h30\nAteliers pratiques (1 x 45 mn en rotation avec les ateliers de l’après-midi)\n\n 	La vanité\npar Elen Buzaré\, membre fondateur de Stoa Gallica\n\n\n 	Cultiver les bonnes émotions : exercices pratiques\npar Maël Goarzin\, docteur en philosophie\, membre fondateur et président de Stoa Gallica\n\n 	La leçon du citharède\npar Jérôme Robin\, membre fondateur et trésorier adjoint de Stoa Gallica\n\n12h30 – 14h\nPause de midi\n\n14h – 15h30\nAteliers pratiques (2 x 45 mn en rotation)\n\n 	La vanité\npar Elen Buzaré\, membre fondateur de Stoa Gallica\n\n\n 	Cultiver les bonnes émotions : exercices pratiques\npar Maël Goarzin\, docteur en philosophie\, membre fondateur et président de Stoa Gallica\n\n 	La leçon du citharède\npar Jérôme Robin\, membre fondateur et trésorier adjoint de Stoa Gallica\n\n15h30 – 15h45\nPause\n\n15h45 – 16h45\nDes émotions sans passions\, propatheiai et pathè dans le stoïcisme de Sénèque et d’Epictète\npar Olivier D’Jeranian\, enseignant aux universités Paris 1 et Paris 10\, et chercheur associé à l’équipe Gramata (Paris 1).\n\n16h45 – 17h\nPause\n\n17h – 17h45\nQue faire de nos émotions?\nTable ronde avec Jean-Baptiste Gourinat\, Olivier D’Jeranian\, Elen Buzaré\, Maël Goarzin et Jérôme Robin.\n\n17h45 – 18h\nMot de la fin\n\n\nINFOS PRATIQUES \nLieu : Espace Bernanos\n4 rue du Havre\n75009 Paris \nDate : Samedi 22 novembre 2025 (9h – 18h) \nBilletterie :\nhttps://www.helloasso.com/associations/stoa-gallica/evenements/journee-stoicienne-2025 \nContact : stoa.gallica@gmail.com \nVous hésitez à venir ? Cliquez ici pour découvrir le compte rendu de la 3e édition. \n\n\n\nORGANISATION \nOrganisée par l’association Stoa Gallica\, la Journée stoïcienne (anciennement Stoicon-x Paris) s’inscrit dans la continuité de la Stoic Conference (Stoicon) organisée chaque année depuis 2012 par l’association Modern Stoicism.\n\nStoa Gallica est une association qui encourage l’étude de la philosophie stoïcienne et défend la pertinence d’un stoïcisme contemporain. Elle a pour but de favoriser les échanges entre les personnes francophones désireuses de découvrir et de mettre en pratique la philosophie stoïcienne aujourd’hui.
URL:https://stoagallica.fr/event/journee-stoicienne-2025-apprendre-a-vivre-ses-emotions-avec-les-stoiciens/
LOCATION:Espace Bernanos\, 4 rue du Havre\, Paris\, 75009\, France
CATEGORIES:Stoicon-x
ATTACH;FMTTYPE=image/png:https://stoagallica.fr/wp-content/uploads/2025/06/SG_JS25_VIGNETTE_1280x720px.png
END:VEVENT
END:VCALENDAR