BEGIN:VCALENDAR
VERSION:2.0
PRODID:-// - ECPv6.15.20//NONSGML v1.0//EN
CALSCALE:GREGORIAN
METHOD:PUBLISH
X-ORIGINAL-URL:https://stoagallica.fr
X-WR-CALDESC:Évènements pour 
REFRESH-INTERVAL;VALUE=DURATION:PT1H
X-Robots-Tag:noindex
X-PUBLISHED-TTL:PT1H
BEGIN:VTIMEZONE
TZID:Europe/Paris
BEGIN:DAYLIGHT
TZOFFSETFROM:+0100
TZOFFSETTO:+0200
TZNAME:CEST
DTSTART:20240331T010000
END:DAYLIGHT
BEGIN:STANDARD
TZOFFSETFROM:+0200
TZOFFSETTO:+0100
TZNAME:CET
DTSTART:20241027T010000
END:STANDARD
BEGIN:DAYLIGHT
TZOFFSETFROM:+0100
TZOFFSETTO:+0200
TZNAME:CEST
DTSTART:20250330T010000
END:DAYLIGHT
BEGIN:STANDARD
TZOFFSETFROM:+0200
TZOFFSETTO:+0100
TZNAME:CET
DTSTART:20251026T010000
END:STANDARD
BEGIN:DAYLIGHT
TZOFFSETFROM:+0100
TZOFFSETTO:+0200
TZNAME:CEST
DTSTART:20260329T010000
END:DAYLIGHT
BEGIN:STANDARD
TZOFFSETFROM:+0200
TZOFFSETTO:+0100
TZNAME:CET
DTSTART:20261025T010000
END:STANDARD
END:VTIMEZONE
BEGIN:VEVENT
DTSTART;TZID=Europe/Paris:20251219T170000
DTEND;TZID=Europe/Paris:20251219T190000
DTSTAMP:20260424T232451
CREATED:20251203T014535Z
LAST-MODIFIED:20251203T014723Z
UID:7210-1766163600-1766170800@stoagallica.fr
SUMMARY:[Montréal] Rencontre virtuelle du Portique Stoa Gallica
DESCRIPTION:En raison des Fêtes de fin d’année\, le portique Stoa Gallica de Montréal organisera sa rencontre virtuelle une semaine plus tôt\, le vendredi 19 décembre de 17h à 19h (un lien Zoom sera envoyé aux personnes participantes). \nCe rendez-vous est ouvert à toutes les personnes qui s’intéressent au stoïcisme dans la vie quotidienne. Cette rencontre sera l’occasion de faire le bilan de la première année du portique. \nPour vous inscrire ou pour toute autre question\, écrivez à stoagallica.montreal@gmail.com\, en indiquant votre nom\, votre prénom\, et si vous êtes déjà adhérent à Stoa Gallica. \nLe nombre de places est limité à 40 personnes pour cette rencontre. \nLe portique Stoa Gallica de Montréal est un lieu pour : \n– discuter du stoïcisme dans la vie quotidienne (en particulier dans les contextes familiaux\, amicaux\, et professionnels) ;\n– discuter du stoïcisme et des enjeux minoritaires (en particulier liés au féminisme\, au capacitisme\, ainsi qu’aux identités queers et minoritaires). \nIl est animé par Sylvain Margot\, membre actif de Stoa Gallica. Les rencontres auront lieu le dernier vendredi de chaque mois\, en alternant les modes présentiels et virtuels d’une rencontre à l’autre.
URL:https://stoagallica.fr/event/7210/
LOCATION:Virtuel
CATEGORIES:Café philo
ATTACH;FMTTYPE=image/jpeg:https://stoagallica.fr/wp-content/uploads/2025/09/Montreal.jpg
END:VEVENT
END:VCALENDAR