BEGIN:VCALENDAR
VERSION:2.0
PRODID:-// - ECPv6.15.20//NONSGML v1.0//EN
CALSCALE:GREGORIAN
METHOD:PUBLISH
X-ORIGINAL-URL:https://stoagallica.fr
X-WR-CALDESC:Évènements pour 
REFRESH-INTERVAL;VALUE=DURATION:PT1H
X-Robots-Tag:noindex
X-PUBLISHED-TTL:PT1H
BEGIN:VTIMEZONE
TZID:Europe/Paris
BEGIN:DAYLIGHT
TZOFFSETFROM:+0100
TZOFFSETTO:+0200
TZNAME:CEST
DTSTART:20250330T010000
END:DAYLIGHT
BEGIN:STANDARD
TZOFFSETFROM:+0200
TZOFFSETTO:+0100
TZNAME:CET
DTSTART:20251026T010000
END:STANDARD
BEGIN:DAYLIGHT
TZOFFSETFROM:+0100
TZOFFSETTO:+0200
TZNAME:CEST
DTSTART:20260329T010000
END:DAYLIGHT
BEGIN:STANDARD
TZOFFSETFROM:+0200
TZOFFSETTO:+0100
TZNAME:CET
DTSTART:20261025T010000
END:STANDARD
BEGIN:DAYLIGHT
TZOFFSETFROM:+0100
TZOFFSETTO:+0200
TZNAME:CEST
DTSTART:20270328T010000
END:DAYLIGHT
BEGIN:STANDARD
TZOFFSETFROM:+0200
TZOFFSETTO:+0100
TZNAME:CET
DTSTART:20271031T010000
END:STANDARD
END:VTIMEZONE
BEGIN:VEVENT
DTSTART;VALUE=DATE:20260307
DTEND;VALUE=DATE:20260405
DTSTAMP:20260424T182607
CREATED:20260205T070054Z
LAST-MODIFIED:20260204T220353Z
UID:7415-1772841600-1775347199@stoagallica.fr
SUMMARY:[En ligne] Atelier d'écriture "28 jours de méditation joyeuse pour penser la mort"
DESCRIPTION:Dans cet atelier d’écriture\, Kathryn Koromilas propose 28 exercices remplis de bienveillance\, qui mènent à la joie\, accompagné par la lecture des Pensées pour moi-même de Marc Aurèle. \n\nL’atelier\, à participation libre\, se déroulera en ligne du 7 mars au 4 avril. \n\n\n\nPour participer au défi et recevoir chaque jour par mail le texte à méditer et les exercices associés\, inscrivez-vous en suivant le lien ci-dessous 👇 \n\n\n\n\nJe m’inscris à l’atelier d’écriture « 28 jours de méditation joyeuse pour penser la mort »\n\n\n\n\nTrois visioconférences seront organisées pour encadrer ce défi. La première visioconférence\, samedi 7 mars à 16h\, permettra de présenter l’évènement mais aussi de découvrir ensemble la première méditation\, en toute bienveillance. Une deuxième visioconférence aura lieu à mi-parcours\, samedi 21 mars\, et enfin samedi 4 avril pour clôturer ces 28 jours. Le lien de connexion sera envoyé aux personnes inscrites quelques jours avant chaque visioconférence. La participation à ces trois visioconférences n’est pas obligatoire\, mais permet de proposer à toutes et à tous un espace d’échanges et de partage qui peut être très utile. \n\n\n\nN’hésitez pas à partager cet article pour inviter vos proches à rejoindre cet atelier d’écriture en ligne !
URL:https://stoagallica.fr/event/en-ligne-atelier-decriture-28-jours-de-meditation-joyeuse-pour-penser-la-mort/
LOCATION:Virtuel
CATEGORIES:Atelier d'écriture
ATTACH;FMTTYPE=image/png:https://stoagallica.fr/wp-content/uploads/2024/04/Memento-mori.png
END:VEVENT
BEGIN:VEVENT
DTSTART;TZID=Europe/Paris:20260328T103000
DTEND;TZID=Europe/Paris:20260328T123000
DTSTAMP:20260424T182607
CREATED:20260301T134144Z
LAST-MODIFIED:20260301T134144Z
UID:7500-1774693800-1774701000@stoagallica.fr
SUMMARY:[Paris] Rencontre du Portique Stoa Gallica
DESCRIPTION:Le portique Stoa Gallica de Paris organise une rencontre le samedi 28 mars de 10 h 30 à 12 h 30 à Paris (lieu précis communiqué après inscription).\n\nCe rendez-vous est ouvert à toutes les personnes intéressées de près ou de loin par la philosophie du stoïcisme.\n\n\nLe portique Stoa Gallica de Paris est un lieu pour :\n– discuter du stoïcisme (notions théoriques\, histoire\, grandes figures\, bienfaits\, limites\, questionnements\, actualisation aujourd’hui…) ;\n– pratiquer le stoïcisme (propositions d’exercices philosophiques seuls et à plusieurs\, avec débriefing collectif\, et action sociale en lien avec d’autres associations).\n\nIl est animé par Jean-Baptiste Roncari et Olivier Martel\, membres actifs de Stoa Gallica.\n\nPour vous inscrire ou toute autre question\, écrivez-à stoagallica.paris@gmail.com\, en indiquant votre nom\, votre prénom et si vous êtes adhérent à Stoa Gallica (ce n’est pas un pré-requis mais cela soutient directement le développement du portique).\n\nLe nombre de places est limité à 20 personnes.
URL:https://stoagallica.fr/event/paris-rencontre-du-portique-stoa-gallica-15/
LOCATION:Paris\, Paris\, 75011\, France
CATEGORIES:Portique
ATTACH;FMTTYPE=image/jpeg:https://stoagallica.fr/wp-content/uploads/2026/01/WhatsApp-Image-2025-12-15-at-20.44.31-5.jpeg
END:VEVENT
END:VCALENDAR