BEGIN:VCALENDAR
VERSION:2.0
PRODID:-// - ECPv6.15.20//NONSGML v1.0//EN
CALSCALE:GREGORIAN
METHOD:PUBLISH
X-ORIGINAL-URL:https://stoagallica.fr
X-WR-CALDESC:Évènements pour 
REFRESH-INTERVAL;VALUE=DURATION:PT1H
X-Robots-Tag:noindex
X-PUBLISHED-TTL:PT1H
BEGIN:VTIMEZONE
TZID:Europe/Paris
BEGIN:DAYLIGHT
TZOFFSETFROM:+0100
TZOFFSETTO:+0200
TZNAME:CEST
DTSTART:20250330T010000
END:DAYLIGHT
BEGIN:STANDARD
TZOFFSETFROM:+0200
TZOFFSETTO:+0100
TZNAME:CET
DTSTART:20251026T010000
END:STANDARD
BEGIN:DAYLIGHT
TZOFFSETFROM:+0100
TZOFFSETTO:+0200
TZNAME:CEST
DTSTART:20260329T010000
END:DAYLIGHT
BEGIN:STANDARD
TZOFFSETFROM:+0200
TZOFFSETTO:+0100
TZNAME:CET
DTSTART:20261025T010000
END:STANDARD
BEGIN:DAYLIGHT
TZOFFSETFROM:+0100
TZOFFSETTO:+0200
TZNAME:CEST
DTSTART:20270328T010000
END:DAYLIGHT
BEGIN:STANDARD
TZOFFSETFROM:+0200
TZOFFSETTO:+0100
TZNAME:CET
DTSTART:20271031T010000
END:STANDARD
END:VTIMEZONE
BEGIN:VEVENT
DTSTART;TZID=Europe/Paris:20260428T183000
DTEND;TZID=Europe/Paris:20260428T200000
DTSTAMP:20260424T165011
CREATED:20260327T090046Z
LAST-MODIFIED:20260317T171544Z
UID:7537-1777401000-1777406400@stoagallica.fr
SUMMARY:[En ligne] Des philosophes pour vivre mieux. Rencontre avec Michel Rayot
DESCRIPTION:A l’occasion de la parution de son ouvrage Des philosophes pour vivre mieux\, nous vous proposons une rencontre en ligne avec Michel Rayot\, auteur et membre de Stoa Gallica\, mardi 28 avril à 18h30. \nLien de connexion vidéo: https://meet.google.com/utq-nruq-yqo \nFruit et synthèse d’un cheminement de deux décennies\, ce projet repose sur la conviction qu’une philosophie accessible peut améliorer la conduite de vie. Onze philosophes majeurs dans l’art de Vivre nous livrent leurs enseignements essentiels\, présentés de façon vivante et concrète. Il vise à dégager ce qui\, au ﬁl des siècles\, demeure utile et immédiatement applicable. \nPlus d’informations sur le livre \nA propos de Michel Rayot \n\nMichel Rayot est diplômé de la BSB\, il a mené une carrière de dirigeant dans l’industrie outdoor\, présidé durant douze ans l’industrie du ski et siégé au conseil d’Outdoor Sports Valley. Ancien président de l’Office de Tourisme du Lac d’Annecy\, il met aujourd’hui son expérience au service de la réflexion sur la philosophie de la vie. \n\n\n\nAdhérent et contributeur pour Stoa Gallica\, Michel est passionné par la pensée stoïcienne. Il a traduit et édité\, avec Maël Goarzin\, deux ouvrages de Chuck Chakrapani\, réunis dans À la découverte de la sagesse stoïcienne et aide également pour la traduction de textes stoïciens anglais pour le blog de Stoa Gallica \n\n\n\nPar ailleurs il a suivi plusieurs MOOC d’universités américaines dans le domaine de la philosophie et de la psychologie positive. Désormais\, il se spécialise dans la transmission par l’écriture de son livre et d’un circuit de conférence. \n\n\n\nCréateur et animateur du club de réflexion philosophique Khaïre\, il participe également à des groupes de réflexion internationaux.
URL:https://stoagallica.fr/event/en-ligne-des-philosophes-pour-vivre-mieux-rencontre-avec-michel-rayot/
LOCATION:Virtuel
CATEGORIES:Visioconférence
ATTACH;FMTTYPE=image/jpeg:https://stoagallica.fr/wp-content/uploads/2026/03/2025-12-19-1e-de-couverture-Des-philosophes-pour-vivre-mieux-copie-scaled.jpg
END:VEVENT
END:VCALENDAR