BEGIN:VCALENDAR
VERSION:2.0
PRODID:-// - ECPv6.15.20//NONSGML v1.0//EN
CALSCALE:GREGORIAN
METHOD:PUBLISH
X-ORIGINAL-URL:https://stoagallica.fr
X-WR-CALDESC:Évènements pour 
REFRESH-INTERVAL;VALUE=DURATION:PT1H
X-Robots-Tag:noindex
X-PUBLISHED-TTL:PT1H
BEGIN:VTIMEZONE
TZID:Europe/Paris
BEGIN:DAYLIGHT
TZOFFSETFROM:+0100
TZOFFSETTO:+0200
TZNAME:CEST
DTSTART:20250330T010000
END:DAYLIGHT
BEGIN:STANDARD
TZOFFSETFROM:+0200
TZOFFSETTO:+0100
TZNAME:CET
DTSTART:20251026T010000
END:STANDARD
BEGIN:DAYLIGHT
TZOFFSETFROM:+0100
TZOFFSETTO:+0200
TZNAME:CEST
DTSTART:20260329T010000
END:DAYLIGHT
BEGIN:STANDARD
TZOFFSETFROM:+0200
TZOFFSETTO:+0100
TZNAME:CET
DTSTART:20261025T010000
END:STANDARD
BEGIN:DAYLIGHT
TZOFFSETFROM:+0100
TZOFFSETTO:+0200
TZNAME:CEST
DTSTART:20270328T010000
END:DAYLIGHT
BEGIN:STANDARD
TZOFFSETFROM:+0200
TZOFFSETTO:+0100
TZNAME:CET
DTSTART:20271031T010000
END:STANDARD
END:VTIMEZONE
BEGIN:VEVENT
DTSTART;TZID=Europe/Paris:20260526T183000
DTEND;TZID=Europe/Paris:20260526T200000
DTSTAMP:20260424T182844
CREATED:20260115T215911Z
LAST-MODIFIED:20260115T215911Z
UID:7345-1779820200-1779825600@stoagallica.fr
SUMMARY:[Lausanne] Les épicuriens: la quête d'une vie simple et bienheureuse (apéro-philo)
DESCRIPTION:Les épicuriens: la quête d’une vie simple et binheureuse avec Maël Goarzin et Ludovic Jeanne \nComment l’Epicurisme peut-il nous aider à faire face à l’agitation et au consumérisme contemporains ? À partir de la théorie des désirs d’Épicure\, nos modes de vie et de consommation\, mais aussi notre façon d’habiter la Terre\, sont interrogées afin d’atteindre une vie simple et bienheureuse aujourd’hui. \nLudovic Jeanne est géographe et enseignant-chercheur en École supérieure de commerce. Il est le président et fondateur du Cercle philosophique Le Jardin de Philodème. \nMaël Goarzin est docteur en philosophie antique\, spécialiste des sagesses antiques et de la philosophie comme manière de vivre\, de l’Antiquité à nos jours. \nMaël Goarzin et Ludovic Jeanne auront le plaisir d’échanger avec vous mardi 26 mai à 18h30\, sur le site Riponne de la BCUL\, à Lausanne (Suisse). Entrée libre sur inscription. L’événement fait partie d’un cycle de rencontres philosophiques intitulé La philosophie comme manière de vivre : de Socrate à nos jours. Elles sont organisées par la BCU Lausanne et animées par Maël Goarzin.
URL:https://stoagallica.fr/event/lausanne-les-epicuriens-la-quete-dune-vie-simple-et-bienheureuse-apero-philo/
LOCATION:Palais de Rumine\, Place de la Riponne 6\, Lausanne\, Vaud\, 1005\, Switzerland
CATEGORIES:Café philo
ATTACH;FMTTYPE=image/jpeg:https://stoagallica.fr/wp-content/uploads/2024/01/15.11.2023-BCUL_00022192.jpeg
ORGANIZER;CN="BCUL":MAILTO:manifestations@bcul.ch
END:VEVENT
END:VCALENDAR