BEGIN:VCALENDAR
VERSION:2.0
PRODID:-// - ECPv6.15.20//NONSGML v1.0//EN
CALSCALE:GREGORIAN
METHOD:PUBLISH
X-ORIGINAL-URL:https://stoagallica.fr
X-WR-CALDESC:Évènements pour 
REFRESH-INTERVAL;VALUE=DURATION:PT1H
X-Robots-Tag:noindex
X-PUBLISHED-TTL:PT1H
BEGIN:VTIMEZONE
TZID:Europe/Paris
BEGIN:DAYLIGHT
TZOFFSETFROM:+0100
TZOFFSETTO:+0200
TZNAME:CEST
DTSTART:20240331T010000
END:DAYLIGHT
BEGIN:STANDARD
TZOFFSETFROM:+0200
TZOFFSETTO:+0100
TZNAME:CET
DTSTART:20241027T010000
END:STANDARD
BEGIN:DAYLIGHT
TZOFFSETFROM:+0100
TZOFFSETTO:+0200
TZNAME:CEST
DTSTART:20250330T010000
END:DAYLIGHT
BEGIN:STANDARD
TZOFFSETFROM:+0200
TZOFFSETTO:+0100
TZNAME:CET
DTSTART:20251026T010000
END:STANDARD
BEGIN:DAYLIGHT
TZOFFSETFROM:+0100
TZOFFSETTO:+0200
TZNAME:CEST
DTSTART:20260329T010000
END:DAYLIGHT
BEGIN:STANDARD
TZOFFSETFROM:+0200
TZOFFSETTO:+0100
TZNAME:CET
DTSTART:20261025T010000
END:STANDARD
END:VTIMEZONE
BEGIN:VEVENT
DTSTART;TZID=Europe/Paris:20251009T190000
DTEND;TZID=Europe/Paris:20251009T210000
DTSTAMP:20260422T003438
CREATED:20250912T141208Z
LAST-MODIFIED:20250912T141208Z
UID:6967-1760036400-1760043600@stoagallica.fr
SUMMARY:[Lausanne] Groupe de lecture du Portique de Suisse romande
DESCRIPTION:Le portique Stoa Gallica de Suisse romande met sur pied un groupe de lecture et de discussion sur le stoïcisme. Le groupe se retrouve une fois par mois\, dans le but de parcourir des textes stoïciens et d’échanger sur la compréhension théorique et l’appropriation pratique qu’ils permettent. \nLe groupe a choisi de débuter ses activités par la lecture suivie du Manuel d’Épictète\, dont une partie sera parcourue et discutée à chaque rencontre. \nLa prochaine rencontre aura lieu le jeudi 9 octobre à 19h (le lieu précis sera communiqué directement aux personnes intéressées)\, et nous poursuivrons notre lecture à partir du chapitre 6. \nLes rencontres ont lieu en présentiel à Lausanne et peuvent accueillir jusqu’à vingt personnes. Elles sont animées par Konstantin Büchler\, membre de Stoa Gallica. \nPour vous inscrire ou pour toute autre question\, écrivez à stoagallica.lausanne@gmail.com\, en indiquant votre nom\, votre prénom et si vous êtes déjà adhérent à Stoa Gallica.
URL:https://stoagallica.fr/event/lausanne-groupe-de-lecture-du-portique-de-suisse-romande-7/
LOCATION:Lausanne\, Lausanne\, Suisse
CATEGORIES:Groupe de lecture
ATTACH;FMTTYPE=image/jpeg:https://stoagallica.fr/wp-content/uploads/2025/09/Groupe-de-lecture_20250911_2.jpeg
ORGANIZER;CN="Portique Stoa Gallica de Lausanne":MAILTO:mael.goarzin@yahoo.fr
END:VEVENT
END:VCALENDAR