BEGIN:VCALENDAR
VERSION:2.0
PRODID:-// - ECPv6.15.20//NONSGML v1.0//EN
CALSCALE:GREGORIAN
METHOD:PUBLISH
X-ORIGINAL-URL:https://stoagallica.fr
X-WR-CALDESC:Évènements pour 
REFRESH-INTERVAL;VALUE=DURATION:PT1H
X-Robots-Tag:noindex
X-PUBLISHED-TTL:PT1H
BEGIN:VTIMEZONE
TZID:Europe/Paris
BEGIN:DAYLIGHT
TZOFFSETFROM:+0100
TZOFFSETTO:+0200
TZNAME:CEST
DTSTART:20250330T010000
END:DAYLIGHT
BEGIN:STANDARD
TZOFFSETFROM:+0200
TZOFFSETTO:+0100
TZNAME:CET
DTSTART:20251026T010000
END:STANDARD
BEGIN:DAYLIGHT
TZOFFSETFROM:+0100
TZOFFSETTO:+0200
TZNAME:CEST
DTSTART:20260329T010000
END:DAYLIGHT
BEGIN:STANDARD
TZOFFSETFROM:+0200
TZOFFSETTO:+0100
TZNAME:CET
DTSTART:20261025T010000
END:STANDARD
BEGIN:DAYLIGHT
TZOFFSETFROM:+0100
TZOFFSETTO:+0200
TZNAME:CEST
DTSTART:20270328T010000
END:DAYLIGHT
BEGIN:STANDARD
TZOFFSETFROM:+0200
TZOFFSETTO:+0100
TZNAME:CET
DTSTART:20271031T010000
END:STANDARD
END:VTIMEZONE
BEGIN:VEVENT
DTSTART;TZID=Europe/Paris:20260311T190000
DTEND;TZID=Europe/Paris:20260311T210000
DTSTAMP:20260422T100108
CREATED:20260116T101547Z
LAST-MODIFIED:20260214T212459Z
UID:7351-1773255600-1773262800@stoagallica.fr
SUMMARY:[Paris] Vivre en philosophe. Exercices spirituels antiques et contemporains (rencontre-signature)
DESCRIPTION:A l’occasion de la publication de l’ouvrage collectif Vivre en philosophe. Exercices spirituels antiques et contemporains\, co-écrit par Philippe Hoffmann\, Xavier Pavie et Maël Goarzin\, une rencontre-signature aura lieu mercredi 11 mars\, à Paris\, de 19h à 21h\, dans les locaux des éditions L’Harmattan\, 21bis rue des Ecoles\, 75005 Paris.\n\nSeront présents pour cette rencontre:\n\n\nPhilippe Hoffmann est Directeur d’études émérite à l’École pratique des hautes études (EPHE-Université Paris Sciences et Lettres / PSL) ; il est par ailleurs Membre de l’Institut de France (Académie des Inscriptions et Belles-Lettres). Ses recherches portent sur la pensée philosophique et religieuse de l’Antiquité et en particulier le néoplatonisme post-plotinien. \nXavier Pavie est philosophe\, Professeur à l’ESSEC Business School et Directeur de programme au Collège International de Philosophie. Il est également chercheur à l’Institut de Recherches Philosophiques de l’Université Paris Nanterre et enseigne la philosophie à l’Institut Catholique de Paris. Ses recherches portent sur la réception des exercices spirituels dans l’espace contemporain. \n\n\n\nMaël Goarzin est docteur en philosophie et bibliothécaire scientifique à la BCU Lausanne. Ses recherches portent sur la philosophie comme manière de vivre de l’Antiquité à nos jours.\n\n\nAu programme de cette rencontre-signature:\n\nPrésentation du livre et de la lecture comme exercice spirituel par Maël Goarzin\nPrésentations de Philippe Hoffmann et de Xavier Pavie à propos de leurs contributions respectives\nQuestions/réponses avec le public\nMoment de discussions informelles\, dédicace et verre de l’amitié\n\nSur inscription uniquement\, en remplissant ce formulaire.
URL:https://stoagallica.fr/event/paris-vivre-en-philosophe-exercices-spirituels-antiques-et-contemporains-rencontre-signature/
LOCATION:Editions L’Harmattan\, 21bis rue des Ecoles\, Paris\, 75005\, France
CATEGORIES:Rencontre-signature
ATTACH;FMTTYPE=image/jpeg:https://stoagallica.fr/wp-content/uploads/2026/01/Affiche-Signature-Vivre-en-philosophe-1.jpg
END:VEVENT
END:VCALENDAR