BEGIN:VCALENDAR
VERSION:2.0
PRODID:-// - ECPv6.15.20//NONSGML v1.0//EN
CALSCALE:GREGORIAN
METHOD:PUBLISH
X-ORIGINAL-URL:https://stoagallica.fr
X-WR-CALDESC:Évènements pour 
REFRESH-INTERVAL;VALUE=DURATION:PT1H
X-Robots-Tag:noindex
X-PUBLISHED-TTL:PT1H
BEGIN:VTIMEZONE
TZID:Europe/Paris
BEGIN:DAYLIGHT
TZOFFSETFROM:+0100
TZOFFSETTO:+0200
TZNAME:CEST
DTSTART:20240331T010000
END:DAYLIGHT
BEGIN:STANDARD
TZOFFSETFROM:+0200
TZOFFSETTO:+0100
TZNAME:CET
DTSTART:20241027T010000
END:STANDARD
BEGIN:DAYLIGHT
TZOFFSETFROM:+0100
TZOFFSETTO:+0200
TZNAME:CEST
DTSTART:20250330T010000
END:DAYLIGHT
BEGIN:STANDARD
TZOFFSETFROM:+0200
TZOFFSETTO:+0100
TZNAME:CET
DTSTART:20251026T010000
END:STANDARD
BEGIN:DAYLIGHT
TZOFFSETFROM:+0100
TZOFFSETTO:+0200
TZNAME:CEST
DTSTART:20260329T010000
END:DAYLIGHT
BEGIN:STANDARD
TZOFFSETFROM:+0200
TZOFFSETTO:+0100
TZNAME:CET
DTSTART:20261025T010000
END:STANDARD
END:VTIMEZONE
BEGIN:VEVENT
DTSTART;TZID=Europe/Paris:20251120T180000
DTEND;TZID=Europe/Paris:20251120T223000
DTSTAMP:20260422T031905
CREATED:20251016T071208Z
LAST-MODIFIED:20251016T071208Z
UID:7051-1763661600-1763677800@stoagallica.fr
SUMMARY:[Lausanne] Soirée de la Philosophie 2025
DESCRIPTION:  \n\n\n\nLe jeudi 20 novembre 2025\, à l’occasion de la Journée mondiale de la philosophie\, l’association Stoa Gallica vous invite à une grande soirée philo au cœur de Lausanne\, de 18h à 22h30. Conférences\, ateliers interactifs\, speed-dating philosophique et lectures vous plongeront dans le thème universel des émotions : comment les comprendre\, les vivre\, les transformer ? \n\n\n\nTrois salles accueilleront une dizaine d’intervenants et intervenantes (dont Alexandre Jollien\, Florian Cova\, Laurence Bouchet…)\, mais aussi des moments d’échanges conviviaux\, des lectures de textes et des discussions libres animées par le Portique Stoa Gallica de Lausanne. \n\n\n\nOuverte à toutes et à tous et portée par des bénévoles engagés\, cette soirée est une invitation à vivre la philosophie autrement : non seulement comme une discipline académique\, mais comme une pratique vivante\, accessible\, et profondément humaine.   \n  \nDécouvrez le programme et inscrivez-vous à l’événement ici:  \nhttps://soireephilo.ch/  \n  \n \n  \nINFOS PRATIQUES \n \nLieu : Pôle Sud Av. Jean-Jacques Mercier 3 1003 Lausanne \n\n\n \nDate : Jeudi 20 novembre 2025 (18h – 22h30) \n\n\n \nParticipation libre et consciente\, sur inscription: https://soireephilo.ch/ \n\n\n \nContact : info@soireephilo.ch
URL:https://stoagallica.fr/event/lausanne-soiree-de-la-philosophie-2025/
LOCATION:Pole Sud\, Av. Jean-Jacques Mercier 3\, Lausanne\, 1003\, Switzerland
CATEGORIES:Soirée de la Philosophie
ATTACH;FMTTYPE=image/jpeg:https://stoagallica.fr/wp-content/uploads/2025/10/Soiree-de-la-Philosophie-2025_Affiche-1-e1760597852200.jpeg
ORGANIZER;CN="Portique Stoa Gallica de Lausanne":MAILTO:mael.goarzin@yahoo.fr
END:VEVENT
END:VCALENDAR