BEGIN:VCALENDAR
VERSION:2.0
PRODID:-// - ECPv6.15.20//NONSGML v1.0//EN
CALSCALE:GREGORIAN
METHOD:PUBLISH
X-ORIGINAL-URL:https://stoagallica.fr
X-WR-CALDESC:Évènements pour 
REFRESH-INTERVAL;VALUE=DURATION:PT1H
X-Robots-Tag:noindex
X-PUBLISHED-TTL:PT1H
BEGIN:VTIMEZONE
TZID:Europe/Paris
BEGIN:DAYLIGHT
TZOFFSETFROM:+0100
TZOFFSETTO:+0200
TZNAME:CEST
DTSTART:20230326T010000
END:DAYLIGHT
BEGIN:STANDARD
TZOFFSETFROM:+0200
TZOFFSETTO:+0100
TZNAME:CET
DTSTART:20231029T010000
END:STANDARD
BEGIN:DAYLIGHT
TZOFFSETFROM:+0100
TZOFFSETTO:+0200
TZNAME:CEST
DTSTART:20240331T010000
END:DAYLIGHT
BEGIN:STANDARD
TZOFFSETFROM:+0200
TZOFFSETTO:+0100
TZNAME:CET
DTSTART:20241027T010000
END:STANDARD
BEGIN:DAYLIGHT
TZOFFSETFROM:+0100
TZOFFSETTO:+0200
TZNAME:CEST
DTSTART:20250330T010000
END:DAYLIGHT
BEGIN:STANDARD
TZOFFSETFROM:+0200
TZOFFSETTO:+0100
TZNAME:CET
DTSTART:20251026T010000
END:STANDARD
END:VTIMEZONE
BEGIN:VEVENT
DTSTART;TZID=Europe/Paris:20241001T183000
DTEND;TZID=Europe/Paris:20241001T200000
DTSTAMP:20260426T001825
CREATED:20240827T153919Z
LAST-MODIFIED:20240827T153919Z
UID:6184-1727807400-1727812800@stoagallica.fr
SUMMARY:[Apéro-philo] L'esprit critique
DESCRIPTION:Cultiver l’esprit critique avec Céline Schöpfer et Maël Goarzin \nDans un monde en crise\, traversé par un flot continuel d’informations\, parfois fausses\, souvent contradictoires\, faire preuve d’esprit critique semble essentiel. Qu’est-ce que l’esprit critique et comment l’enseigner ? De quelle dose de scepticisme avons-nous besoin ? \nCéline Schöpfer est doctorante en philosophie à l’Université de Genève. Sa recherche porte sur l’esprit critique. \nMaël Goarzin et Céline Schöpfer auront le plaisir d’échanger avec vous mardi 1er octobre à 18h30\, sur le site Riponne de la BCUL\, à Lausanne (Suisse). Entrée libre sur inscription. L’événement fait partie d’un cycle de rencontres philosophiques intitulé Comment vivre dans un monde en crise? Elles sont organisées par la BCU Lausanne et animées par Maël Goarzin.
URL:https://stoagallica.fr/event/apero-philo-lesprit-critique/
LOCATION:Salle du Sénat\, Palais de Rumine\, Lausanne\, Suisse
CATEGORIES:Café philo
ATTACH;FMTTYPE=image/jpeg:https://stoagallica.fr/wp-content/uploads/2024/01/15.11.2023-BCUL_00022192.jpeg
ORGANIZER;CN="BCUL":MAILTO:manifestations@bcul.ch
END:VEVENT
BEGIN:VEVENT
DTSTART;TZID=Europe/Paris:20241012T123000
DTEND;TZID=Europe/Paris:20241012T140000
DTSTAMP:20260426T001825
CREATED:20240923T125046Z
LAST-MODIFIED:20240923T125046Z
UID:6312-1728736200-1728741600@stoagallica.fr
SUMMARY:[Paris] Rencontre du Portique Stoa Gallica
DESCRIPTION:Le portique Stoa Gallica de Paris organise une rencontre le samedi 12 octobre de 12h30 à 14h à Paris 11 (lieu précis communiqué après inscription).\n\nCe rendez-vous est ouvert à toutes les personnes intéressées de près ou de loin par la philosophie du stoïcisme.\n\nLe portique Stoa Gallica de Paris est un lieu pour :\n– discuter du stoïcisme (notions théoriques\, histoire\, grandes figures\, bienfaits\, limites\, questionnements\, actualisation aujourd’hui…) ;\n– pratiquer le stoïcisme (propositions d’exercices philosophiques seuls et à plusieurs\, avec débriefing collectif\, et action sociale en lien avec d’autres associations).\n\nIl est animé par Jean-Baptiste Roncari\, secrétaire adjoint de Stoa Gallica\, et Olivier Martel\, membre actif de Stoa Gallica. La fréquence des rencontres est de 1 par mois (pour commencer).\n\nPour vous inscrire ou toute autre question\, écrivez-à stoagallica.paris@gmail.com\, en indiquant votre nom\, votre prénom et si vous êtes adhérent à Stoa Gallica (ce n’est pas un pré-requis mais cela soutient directement le développement du portique).\n\nLe nombre de places est limité à 20 personnes.
URL:https://stoagallica.fr/event/paris-rencontre-du-portique-stoa-gallica/
LOCATION:Paris\, Paris\, 75011\, France
CATEGORIES:Café philo
ATTACH;FMTTYPE=image/png:https://stoagallica.fr/wp-content/uploads/2024/09/Capture-decran-2024-09-23-a-14.49.45.png
END:VEVENT
BEGIN:VEVENT
DTSTART;VALUE=DATE:20241028
DTEND;VALUE=DATE:20241104
DTSTAMP:20260426T001825
CREATED:20241016T185942Z
LAST-MODIFIED:20241025T132110Z
UID:6355-1730073600-1730678399@stoagallica.fr
SUMMARY:La Semaine stoïcienne 2024 (en ligne)
DESCRIPTION:Chaque année depuis 2012\, l’association Modern Stoicism propose de vivre une semaine comme un stoïcien à l’occasion de la Stoic Week (Semaine stoïcienne). Cet événement est entièrement gratuit et se déroule en ligne. L’édition 2024 aura lieu du lundi 28 octobre au dimanche 3 novembre. Depuis la première édition\, des dizaines de milliers de personnes y ont déjà participé à travers le monde. \nEt bonne nouvelle ! Depuis l’an passé\, cette expérience est désormais accessible à toutes les personnes francophones ! Le livret de la semaine stoïcienne vous propose chaque jour\, du lundi au dimanche\, des lectures\, des méditations\, des exercices pratiques et des ressources complémentaires. L’an passé\, plusieurs centaines de personnes ont téléchargé le livret de la Semaine stoïcienne\, et plus de 130 personnes ont participé aux échanges sur le groupe Facebook dédié. \nPour participer à l’événement et obtenir le livret de la semaine stoïcienne\, rejoignez le groupe Facebook dédié en cliquant ci-dessous  \n\nJe rejoins le groupe Facebook de la Semaine stoïcienne\n\nLe groupe Facebook est votre espace dédié pour échanger avec les autres participants\, bénéficier de conseils pratiques et tirer pleinement profit de votre expérience. \nLe livret de la Semaine stoïcienne peut également être téléchargé en suivant ce lien. \nVous pouvez compléter votre inscription sur le site Modern Stoicism\, pour remplir un questionnaire avant de commencer\, et un autre à la fin\, qui permettra à l’association d’évaluer dans quelle mesure le suivi des conseils de vie stoïciens a été bénéfique. Jusqu’à présent\, les résultats ont montré que les personnes qui participent voient une réduction des émotions désagréables et une augmentation de la satisfaction de vie.  \nPlus d’informations sur la Semaine stoïcienne en suivant ce lien.
URL:https://stoagallica.fr/event/la-semaine-stoicienne-2024-en-ligne/
CATEGORIES:Semaine Stoïcienne
ATTACH;FMTTYPE=image/png:https://stoagallica.fr/wp-content/uploads/2024/10/banner-1.png
END:VEVENT
END:VCALENDAR