BEGIN:VCALENDAR
VERSION:2.0
PRODID:-// - ECPv6.15.20//NONSGML v1.0//EN
CALSCALE:GREGORIAN
METHOD:PUBLISH
X-ORIGINAL-URL:https://stoagallica.fr
X-WR-CALDESC:Évènements pour 
REFRESH-INTERVAL;VALUE=DURATION:PT1H
X-Robots-Tag:noindex
X-PUBLISHED-TTL:PT1H
BEGIN:VTIMEZONE
TZID:Europe/Paris
BEGIN:DAYLIGHT
TZOFFSETFROM:+0100
TZOFFSETTO:+0200
TZNAME:CEST
DTSTART:20240331T010000
END:DAYLIGHT
BEGIN:STANDARD
TZOFFSETFROM:+0200
TZOFFSETTO:+0100
TZNAME:CET
DTSTART:20241027T010000
END:STANDARD
BEGIN:DAYLIGHT
TZOFFSETFROM:+0100
TZOFFSETTO:+0200
TZNAME:CEST
DTSTART:20250330T010000
END:DAYLIGHT
BEGIN:STANDARD
TZOFFSETFROM:+0200
TZOFFSETTO:+0100
TZNAME:CET
DTSTART:20251026T010000
END:STANDARD
BEGIN:DAYLIGHT
TZOFFSETFROM:+0100
TZOFFSETTO:+0200
TZNAME:CEST
DTSTART:20260329T010000
END:DAYLIGHT
BEGIN:STANDARD
TZOFFSETFROM:+0200
TZOFFSETTO:+0100
TZNAME:CET
DTSTART:20261025T010000
END:STANDARD
END:VTIMEZONE
BEGIN:VEVENT
DTSTART;TZID=Europe/Paris:20250125T103000
DTEND;TZID=Europe/Paris:20250125T123000
DTSTAMP:20260425T175652
CREATED:20250108T090144Z
LAST-MODIFIED:20250108T090144Z
UID:6523-1737801000-1737808200@stoagallica.fr
SUMMARY:[Paris] Rencontre du Portique Stoa Gallica
DESCRIPTION:Le portique Stoa Gallica de Paris organise une rencontre le samedi 25 janvier de 10 h 30 à 12 h 30 à Paris 11 (lieu précis communiqué après inscription).\n\nCe rendez-vous est ouvert à toutes les personnes intéressées de près ou de loin par la philosophie du stoïcisme.\n\nLe portique Stoa Gallica de Paris est un lieu pour :\n– discuter du stoïcisme (notions théoriques\, histoire\, grandes figures\, bienfaits\, limites\, questionnements\, actualisation aujourd’hui…) ;\n– pratiquer le stoïcisme (propositions d’exercices philosophiques seuls et à plusieurs\, avec débriefing collectif\, et action sociale en lien avec d’autres associations).\n\nIl est animé par Jean-Baptiste Roncari\, secrétaire adjoint de Stoa Gallica\, et Olivier Martel\, membre actif de Stoa Gallica. La fréquence des rencontres est de 1 par mois (pour commencer).\n\nPour vous inscrire ou toute autre question\, écrivez-à stoagallica.paris@gmail.com\, en indiquant votre nom\, votre prénom et si vous êtes adhérent à Stoa Gallica (ce n’est pas un pré-requis mais cela soutient directement le développement du portique).\n\nLe nombre de places est limité à 20 personnes.
URL:https://stoagallica.fr/event/paris-rencontre-du-portique-stoa-gallica-4/
ATTACH;FMTTYPE=image/png:https://stoagallica.fr/wp-content/uploads/2024/09/Capture-decran-2024-09-23-a-14.49.45.png
END:VEVENT
BEGIN:VEVENT
DTSTART;TZID=Europe/Paris:20250131T170000
DTEND;TZID=Europe/Paris:20250131T190000
DTSTAMP:20260425T175652
CREATED:20250103T145909Z
LAST-MODIFIED:20250517T183316Z
UID:6499-1738342800-1738350000@stoagallica.fr
SUMMARY:[Montréal] Première rencontre du Portique Stoa Gallica de Montréal
DESCRIPTION:Le portique Stoa Gallica de Montréal organise sa première rencontre le vendredi 31 janvier de 17h à 19h (le lieu précis sera communiqué la semaine avant la rencontre). \nCe rendez-vous est ouvert à toutes les personnes qui s’intéressent au stoïcisme dans la vie quotidienne. \nLe portique Stoa Gallica de Montréal est un lieu pour : \n– discuter du stoïcisme dans la vie quotidienne (en particulier dans les contextes familiaux\, amicaux\, et professionnels) ; \n– discuter du stoïcisme et des enjeux minoritaires (en particulier liés au féminisme\, au capacitisme\, ainsi qu’aux identités queers et minoritaires). \nIl est animé par Sylvain Margot\, membre actif de Stoa Gallica. Les rencontres auront lieu le dernier vendredi de chaque mois\, en alternant les modes présentiels et virtuels d’une rencontre à l’autre. \nPour vous inscrire ou pour toute autre question\, écrivez à stoagallica.montreal@gmail.com\, en indiquant votre nom\, votre prénom\, si vous êtes déjà adhérent à Stoa Gallica\, et dans quel quartier vous habitez (afin de déterminer le lieu de rencontre le plus pratique pour tous). \nLe nombre de places est limité à 10 personnes pour cette première rencontre.
URL:https://stoagallica.fr/event/premiere-rencontre-du-portique-de-montreal/
CATEGORIES:Café philo
ATTACH;FMTTYPE=image/jpeg:https://stoagallica.fr/wp-content/uploads/2025/01/Montreal-canada-parc-urban.jpg
END:VEVENT
END:VCALENDAR