BEGIN:VCALENDAR
VERSION:2.0
PRODID:-// - ECPv6.15.20//NONSGML v1.0//EN
CALSCALE:GREGORIAN
METHOD:PUBLISH
X-ORIGINAL-URL:https://stoagallica.fr
X-WR-CALDESC:Évènements pour 
REFRESH-INTERVAL;VALUE=DURATION:PT1H
X-Robots-Tag:noindex
X-PUBLISHED-TTL:PT1H
BEGIN:VTIMEZONE
TZID:Europe/Paris
BEGIN:DAYLIGHT
TZOFFSETFROM:+0100
TZOFFSETTO:+0200
TZNAME:CEST
DTSTART:20240331T010000
END:DAYLIGHT
BEGIN:STANDARD
TZOFFSETFROM:+0200
TZOFFSETTO:+0100
TZNAME:CET
DTSTART:20241027T010000
END:STANDARD
BEGIN:DAYLIGHT
TZOFFSETFROM:+0100
TZOFFSETTO:+0200
TZNAME:CEST
DTSTART:20250330T010000
END:DAYLIGHT
BEGIN:STANDARD
TZOFFSETFROM:+0200
TZOFFSETTO:+0100
TZNAME:CET
DTSTART:20251026T010000
END:STANDARD
BEGIN:DAYLIGHT
TZOFFSETFROM:+0100
TZOFFSETTO:+0200
TZNAME:CEST
DTSTART:20260329T010000
END:DAYLIGHT
BEGIN:STANDARD
TZOFFSETFROM:+0200
TZOFFSETTO:+0100
TZNAME:CET
DTSTART:20261025T010000
END:STANDARD
END:VTIMEZONE
BEGIN:VEVENT
DTSTART;TZID=Europe/Paris:20250204T183000
DTEND;TZID=Europe/Paris:20250204T200000
DTSTAMP:20260425T144122
CREATED:20250114T140410Z
LAST-MODIFIED:20250114T140707Z
UID:6495-1738693800-1738699200@stoagallica.fr
SUMMARY:[Apéro-philo Lausanne] Sagesses d'orient vues d'occident: philosophie ou religion?
DESCRIPTION:Philosophie ou religion? avec Maël Goarzin et Frédéric Richard \nQu’est-ce que le bouddhisme\, le taoïsme ou le confucianisme ? Peut-on\, pour définir ces traditions orientales\, utiliser les termes de « philosophie » et de « religion » ? La présentation des principales caractéristiques de ces sagesses orientales sera l’occasion de préciser la pertinence des termes utilisés\, et de les comparer avec les sagesses de l’Antiquité grecque et romaine. \nMaël Goarzin est docteur en philosophie antique\, spécialiste des sagesses antiques et de la philosophie comme manière de vivre\, de l’Antiquité à nos jours. Frédéric Richard est doctorant en sciences des religions à l’Université de Lausanne. \nMaël Goarzin et Frédéric Richard auront le plaisir d’échanger avec vous mardi 4 février à 18h30\, sur le site Riponne de la BCUL\, à Lausanne (Suisse). Entrée libre sur inscription. L’événement fait partie d’un cycle de rencontres philosophiques intitulé Sagesses d’orient vues d’occident. Elles sont organisées par la BCU Lausanne et co-animées par Maël Goarzin et Frédéric Richard.
URL:https://stoagallica.fr/event/apero-philo-sagesses-dorient-vues-doccident-philosophie-ou-religion/
LOCATION:Salle du Sénat\, Palais de Rumine\, Lausanne\, Suisse
CATEGORIES:Café philo
ATTACH;FMTTYPE=image/jpeg:https://stoagallica.fr/wp-content/uploads/2025/01/15.11.2023-BCUL_00022187.jpg
ORGANIZER;CN="BCUL":MAILTO:manifestations@bcul.ch
END:VEVENT
BEGIN:VEVENT
DTSTART;TZID=Europe/Paris:20250215T103000
DTEND;TZID=Europe/Paris:20250215T123000
DTSTAMP:20260425T144122
CREATED:20250108T090258Z
LAST-MODIFIED:20250108T090258Z
UID:6526-1739615400-1739622600@stoagallica.fr
SUMMARY:[Paris] Rencontre du Portique Stoa Gallica
DESCRIPTION:Le portique Stoa Gallica de Paris organise une rencontre le samedi 15 février de 10 h 30 à 12 h 30 à Paris 11 (lieu précis communiqué après inscription).\n\nCe rendez-vous est ouvert à toutes les personnes intéressées de près ou de loin par la philosophie du stoïcisme.\n\nLe portique Stoa Gallica de Paris est un lieu pour :\n– discuter du stoïcisme (notions théoriques\, histoire\, grandes figures\, bienfaits\, limites\, questionnements\, actualisation aujourd’hui…) ;\n– pratiquer le stoïcisme (propositions d’exercices philosophiques seuls et à plusieurs\, avec débriefing collectif\, et action sociale en lien avec d’autres associations).\n\nIl est animé par Jean-Baptiste Roncari\, secrétaire adjoint de Stoa Gallica\, et Olivier Martel\, membre actif de Stoa Gallica. La fréquence des rencontres est de 1 par mois (pour commencer).\n\nPour vous inscrire ou toute autre question\, écrivez-à stoagallica.paris@gmail.com\, en indiquant votre nom\, votre prénom et si vous êtes adhérent à Stoa Gallica (ce n’est pas un pré-requis mais cela soutient directement le développement du portique).\n\nLe nombre de places est limité à 20 personnes.
URL:https://stoagallica.fr/event/paris-rencontre-du-portique-stoa-gallica-5/
ATTACH;FMTTYPE=image/png:https://stoagallica.fr/wp-content/uploads/2024/09/Capture-decran-2024-09-23-a-14.49.45.png
END:VEVENT
BEGIN:VEVENT
DTSTART;TZID=Europe/Paris:20250215T150000
DTEND;TZID=Europe/Paris:20250215T170000
DTSTAMP:20260425T144122
CREATED:20250124T084757Z
LAST-MODIFIED:20250127T093331Z
UID:6567-1739631600-1739638800@stoagallica.fr
SUMMARY:[Rencontre-signature] Vivre en stoïcien. Réflexions antiques et résonances contemporaines
DESCRIPTION:A l’occasion de la publication de l’ouvrage collectif Vivre en stoïcien. Réflexions antiques et résonances contemporaines\, dirigé par Maël Goarzin\, une rencontre-signature avec les contributeurs et contributrices aura lieu samedi 15 février\, à Paris\, de 15h à 17h\, dans les locaux des éditions L’Harmattan\, 21bis rue des Ecoles\, 75005 Paris.\n\nSeront présents pour cette rencontre: Flora Bernard\, Olivier D’Jeranian\, Maël Goarzin\, Xavier Pavie\, Jérôme Robin\, Jean-Baptiste Roncari et Ali Sanhaji.\n\nAu programme de cette rencontre-signature:\n\nPrésentation du livre\, de l’association Stoa Gallica et des Journées stoïciennes par Maël Goarzin\nPrésentation des auteurs et de leur contribution par les contributrices et contributeurs présents\nQuestions/réponses avec le public\nMoment de discussions informelles\, dédicace et verre de l’amitié\n\nSur inscription uniquement. Merci de remplir ce formulaire en cliquant ici.
URL:https://stoagallica.fr/event/rencontre-signature-vivre-en-stoicien-reflexions-antiques-et-resonances-contemporaines/
LOCATION:Editions L’Harmattan\, 21bis rue des Ecoles\, Paris\, 75005\, France
CATEGORIES:Rencontre-signature
ATTACH;FMTTYPE=image/jpeg:https://stoagallica.fr/wp-content/uploads/2024/07/Vivre-en-stoicien_couverture.jpg
END:VEVENT
BEGIN:VEVENT
DTSTART;TZID=Europe/Paris:20250227T190000
DTEND;TZID=Europe/Paris:20250227T213000
DTSTAMP:20260425T144122
CREATED:20250122T165840Z
LAST-MODIFIED:20250122T165940Z
UID:6549-1740682800-1740691800@stoagallica.fr
SUMMARY:[Lausanne] Groupe de lecture du Portique de Suisse romande
DESCRIPTION:Le groupe de lecture du Portique de Suisse romande organise une première rencontre le jeudi 27 février de 19h à 21 h 30 à Lausanne-gare (lieu précis communiqué après inscription).\n\nCe rendez-vous est ouvert à toutes les personnes intéressées de près ou de loin par la philosophie du stoïcisme.\n\nCe groupe de lecture est animé par Konstantin Büchler\, membre actif de Stoa Gallica. La fréquence des rencontres reste à définir.\n\nPour vous inscrire ou toute autre question\, écrivez-à stoagallica.lausanne@gmail.com\, en indiquant votre nom\, votre prénom et si vous êtes adhérent à Stoa Gallica (ce n’est pas un pré-requis mais cela soutient directement le développement du portique).\n\nLe nombre de places est limité à 20 personnes.
URL:https://stoagallica.fr/event/lausanne-groupe-de-lecture-du-portique-de-suisse-romande/
LOCATION:Lausanne\, Lausanne\, Suisse
CATEGORIES:Groupe de lecture
ATTACH;FMTTYPE=image/jpeg:https://stoagallica.fr/wp-content/uploads/2024/02/gabriel-garcia-marengo-bDN0IWwIjKw-unsplash.jpg
ORGANIZER;CN="Portique Stoa Gallica de Lausanne":MAILTO:mael.goarzin@yahoo.fr
END:VEVENT
BEGIN:VEVENT
DTSTART;TZID=Europe/Paris:20250228T170000
DTEND;TZID=Europe/Paris:20250228T190000
DTSTAMP:20260425T144122
CREATED:20250215T213434Z
LAST-MODIFIED:20250517T183340Z
UID:6600-1740762000-1740769200@stoagallica.fr
SUMMARY:[Montréal] Rencontre virtuelle du Portique Stoa Gallica
DESCRIPTION:Le portique Stoa Gallica de Montréal organise sa rencontre virtuelle le vendredi 28 février de 17h à 19h (un lien Zoom sera envoyé aux personnes participantes). \nCe rendez-vous est ouvert à toutes les personnes qui s’intéressent au stoïcisme dans la vie quotidienne. \nLe portique Stoa Gallica de Montréal est un lieu pour : \n– discuter du stoïcisme dans la vie quotidienne (en particulier dans les contextes familiaux\, amicaux\, et professionnels) ; \n– discuter du stoïcisme et des enjeux minoritaires (en particulier liés au féminisme\, au capacitisme\, ainsi qu’aux identités queers et minoritaires). \nIl est animé par Sylvain Margot\, membre actif de Stoa Gallica. Les rencontres auront lieu le dernier vendredi de chaque mois\, en alternant les modes présentiels et virtuels d’une rencontre à l’autre. \nPour vous inscrire ou pour toute autre question\, écrivez à stoagallica.montreal@gmail.com\, en indiquant votre nom\, votre prénom\, et si vous êtes déjà adhérent à Stoa Gallica. \nLe nombre de places est limité à 40 personnes pour cette rencontre.
URL:https://stoagallica.fr/event/rencontre-virtuelle-du-portique-de-montreal/
CATEGORIES:Café philo
ATTACH;FMTTYPE=image/webp:https://stoagallica.fr/wp-content/uploads/2024/12/Downtown_seen_from_Mont-Royal.webp
END:VEVENT
END:VCALENDAR