BEGIN:VCALENDAR
VERSION:2.0
PRODID:-// - ECPv6.15.20//NONSGML v1.0//EN
CALSCALE:GREGORIAN
METHOD:PUBLISH
X-ORIGINAL-URL:https://stoagallica.fr
X-WR-CALDESC:Évènements pour 
REFRESH-INTERVAL;VALUE=DURATION:PT1H
X-Robots-Tag:noindex
X-PUBLISHED-TTL:PT1H
BEGIN:VTIMEZONE
TZID:Europe/Paris
BEGIN:DAYLIGHT
TZOFFSETFROM:+0100
TZOFFSETTO:+0200
TZNAME:CEST
DTSTART:20240331T010000
END:DAYLIGHT
BEGIN:STANDARD
TZOFFSETFROM:+0200
TZOFFSETTO:+0100
TZNAME:CET
DTSTART:20241027T010000
END:STANDARD
BEGIN:DAYLIGHT
TZOFFSETFROM:+0100
TZOFFSETTO:+0200
TZNAME:CEST
DTSTART:20250330T010000
END:DAYLIGHT
BEGIN:STANDARD
TZOFFSETFROM:+0200
TZOFFSETTO:+0100
TZNAME:CET
DTSTART:20251026T010000
END:STANDARD
BEGIN:DAYLIGHT
TZOFFSETFROM:+0100
TZOFFSETTO:+0200
TZNAME:CEST
DTSTART:20260329T010000
END:DAYLIGHT
BEGIN:STANDARD
TZOFFSETFROM:+0200
TZOFFSETTO:+0100
TZNAME:CET
DTSTART:20261025T010000
END:STANDARD
END:VTIMEZONE
BEGIN:VTIMEZONE
TZID:America/Toronto
BEGIN:DAYLIGHT
TZOFFSETFROM:-0500
TZOFFSETTO:-0400
TZNAME:EDT
DTSTART:20240310T070000
END:DAYLIGHT
BEGIN:STANDARD
TZOFFSETFROM:-0400
TZOFFSETTO:-0500
TZNAME:EST
DTSTART:20241103T060000
END:STANDARD
BEGIN:DAYLIGHT
TZOFFSETFROM:-0500
TZOFFSETTO:-0400
TZNAME:EDT
DTSTART:20250309T070000
END:DAYLIGHT
BEGIN:STANDARD
TZOFFSETFROM:-0400
TZOFFSETTO:-0500
TZNAME:EST
DTSTART:20251102T060000
END:STANDARD
BEGIN:DAYLIGHT
TZOFFSETFROM:-0500
TZOFFSETTO:-0400
TZNAME:EDT
DTSTART:20260308T070000
END:DAYLIGHT
BEGIN:STANDARD
TZOFFSETFROM:-0400
TZOFFSETTO:-0500
TZNAME:EST
DTSTART:20261101T060000
END:STANDARD
END:VTIMEZONE
BEGIN:VEVENT
DTSTART;TZID=Europe/Paris:20250304T183000
DTEND;TZID=Europe/Paris:20250304T200000
DTSTAMP:20260425T125659
CREATED:20250104T133724Z
LAST-MODIFIED:20250114T144435Z
UID:6497-1741113000-1741118400@stoagallica.fr
SUMMARY:[Apéro-philo Lausanne] Sagesses d'Orient vues d'Occident: les voies du bonheur
DESCRIPTION:Les voies du bonheur avec Maël Goarzin et Frédéric Richard \nLes sagesses orientales et les sagesses de l’Antiquité grecque et romaine partagent un même but : le bonheur. Entre Orient et Occident\, nous verrons les différentes manières de définir une vie heureuse et quels sont les moyens de l’atteindre. \nMaël Goarzin est docteur en philosophie antique\, spécialiste des sagesses antiques et de la philosophie comme manière de vivre\, de l’Antiquité à nos jours. Frédéric Richard est doctorant en sciences des religions à l’Université de Lausanne. \nMaël Goarzin et Frédéric Richard auront le plaisir d’échanger avec vous mardi 4 mars à 18h30\, sur le site Riponne de la BCUL\, à Lausanne (Suisse). Entrée libre sur inscription. L’événement fait partie d’un cycle de rencontres philosophiques intitulé Sagesses d’orient vues d’occident. Elles sont organisées par la BCU Lausanne et co-animées par Maël Goarzin et Frédéric Richard.
URL:https://stoagallica.fr/event/apero-philo-sagesses-dorient-vues-doccident-les-voies-du-bonheur/
LOCATION:Salle du Sénat\, Palais de Rumine\, Lausanne\, Suisse
CATEGORIES:Café philo
ATTACH;FMTTYPE=image/jpeg:https://stoagallica.fr/wp-content/uploads/2025/01/15.11.2023-BCUL_00022187-1.jpg
ORGANIZER;CN="BCUL":MAILTO:manifestations@bcul.ch
END:VEVENT
BEGIN:VEVENT
DTSTART;TZID=Europe/Paris:20250308T103000
DTEND;TZID=Europe/Paris:20250308T123000
DTSTAMP:20260425T125659
CREATED:20250108T090357Z
LAST-MODIFIED:20250108T090357Z
UID:6528-1741429800-1741437000@stoagallica.fr
SUMMARY:[Paris] Rencontre du Portique Stoa Gallica
DESCRIPTION:Le portique Stoa Gallica de Paris organise une rencontre le samedi 8 mars de 10 h 30 à 12 h 30 à Paris 11 (lieu précis communiqué après inscription).\n\nCe rendez-vous est ouvert à toutes les personnes intéressées de près ou de loin par la philosophie du stoïcisme.\n\nLe portique Stoa Gallica de Paris est un lieu pour :\n– discuter du stoïcisme (notions théoriques\, histoire\, grandes figures\, bienfaits\, limites\, questionnements\, actualisation aujourd’hui…) ;\n– pratiquer le stoïcisme (propositions d’exercices philosophiques seuls et à plusieurs\, avec débriefing collectif\, et action sociale en lien avec d’autres associations).\n\nIl est animé par Jean-Baptiste Roncari\, secrétaire adjoint de Stoa Gallica\, et Olivier Martel\, membre actif de Stoa Gallica. La fréquence des rencontres est de 1 par mois (pour commencer).\n\nPour vous inscrire ou toute autre question\, écrivez-à stoagallica.paris@gmail.com\, en indiquant votre nom\, votre prénom et si vous êtes adhérent à Stoa Gallica (ce n’est pas un pré-requis mais cela soutient directement le développement du portique).\n\nLe nombre de places est limité à 20 personnes.
URL:https://stoagallica.fr/event/paris-rencontre-du-portique-stoa-gallica-6/
ATTACH;FMTTYPE=image/png:https://stoagallica.fr/wp-content/uploads/2024/09/Capture-decran-2024-09-23-a-14.49.45.png
END:VEVENT
BEGIN:VEVENT
DTSTART;TZID=Europe/Paris:20250327T191500
DTEND;TZID=Europe/Paris:20250327T210000
DTSTAMP:20260425T125659
CREATED:20250318T075556Z
LAST-MODIFIED:20250318T075556Z
UID:6666-1743102900-1743109200@stoagallica.fr
SUMMARY:[Lausanne] Groupe de lecture du Portique de Suisse romande
DESCRIPTION:Le portique Stoa Gallica de Suisse romande met sur pied un groupe de lecture et de discussion sur le stoïcisme. Le groupe se retrouve une fois par mois\, dans le but de parcourir des textes stoïciens et d’échanger sur la compréhension théorique et l’appropriation pratique qu’ils permettent. \nLe groupe a choisi de débuter ses activités par la lecture suivie du Manuel d’Épictète\, dont une partie sera parcourue et discutée à chaque rencontre. \nLa prochaine rencontre aura lieu le jeudi 27 mars à 19h15 (le lieu précis sera communiqué directement aux personnes intéressées). \nLes rencontres ont lieu en présentiel à Lausanne et peuvent accueillir jusqu’à vingt personnes. Elles sont animées par Konstantin Büchler\, membre de Stoa Gallica. \nPour vous inscrire ou pour toute autre question\, écrivez à  stoagallica.lausanne@gmail.com\, en indiquant votre nom\, votre prénom et si vous êtes déjà adhérent à Stoa Gallica.
URL:https://stoagallica.fr/event/lausanne-groupe-de-lecture-du-portique-de-suisse-romande-2/
LOCATION:Lausanne\, Lausanne\, Suisse
CATEGORIES:Groupe de lecture
ATTACH;FMTTYPE=image/jpeg:https://stoagallica.fr/wp-content/uploads/2024/02/gabriel-garcia-marengo-bDN0IWwIjKw-unsplash.jpg
ORGANIZER;CN="Portique Stoa Gallica de Lausanne":MAILTO:mael.goarzin@yahoo.fr
END:VEVENT
BEGIN:VEVENT
DTSTART;TZID=America/Toronto:20250328T170000
DTEND;TZID=America/Toronto:20250328T190000
DTSTAMP:20260425T125659
CREATED:20250316T151301Z
LAST-MODIFIED:20250517T183416Z
UID:6639-1743181200-1743188400@stoagallica.fr
SUMMARY:[Montréal] Rencontre du Portique Stoa Gallica
DESCRIPTION:Le portique Stoa Gallica de Montréal organise sa rencontre mensuelle le vendredi 28 mars de 17h à 19h (le lieu précis sera communiqué la semaine avant la rencontre). \nCe rendez-vous est ouvert à toutes les personnes qui s’intéressent au stoïcisme dans la vie quotidienne. \nLe portique Stoa Gallica de Montréal est un lieu pour : \n– discuter du stoïcisme dans la vie quotidienne (en particulier dans les contextes familiaux\, amicaux\, et professionnels) ; \n– discuter du stoïcisme et des enjeux minoritaires (en particulier liés au féminisme\, au capacitisme\, ainsi qu’aux identités queers et minoritaires). \nIl est animé par Sylvain Margot\, membre actif de Stoa Gallica. Les rencontres ont lieu le dernier vendredi de chaque mois\, en alternant les modes présentiels et virtuels d’une rencontre à l’autre. \nPour vous inscrire ou pour toute autre question\, écrivez à stoagallica.montreal@gmail.com\, en indiquant votre nom\, votre prénom\, si vous êtes déjà adhérent à Stoa Gallica\, et dans quel quartier vous habitez (afin de déterminer le lieu de rencontre le plus pratique pour tous). \nLe nombre de places est limité à 12 personnes. \n 
URL:https://stoagallica.fr/event/rencontre-du-portique-de-montreal/
CATEGORIES:Café philo
ATTACH;FMTTYPE=image/webp:https://stoagallica.fr/wp-content/uploads/2024/12/Downtown_seen_from_Mont-Royal.webp
END:VEVENT
END:VCALENDAR