BEGIN:VCALENDAR
VERSION:2.0
PRODID:-// - ECPv6.15.20//NONSGML v1.0//EN
CALSCALE:GREGORIAN
METHOD:PUBLISH
X-ORIGINAL-URL:https://stoagallica.fr
X-WR-CALDESC:Évènements pour 
REFRESH-INTERVAL;VALUE=DURATION:PT1H
X-Robots-Tag:noindex
X-PUBLISHED-TTL:PT1H
BEGIN:VTIMEZONE
TZID:Europe/Paris
BEGIN:DAYLIGHT
TZOFFSETFROM:+0100
TZOFFSETTO:+0200
TZNAME:CEST
DTSTART:20240331T010000
END:DAYLIGHT
BEGIN:STANDARD
TZOFFSETFROM:+0200
TZOFFSETTO:+0100
TZNAME:CET
DTSTART:20241027T010000
END:STANDARD
BEGIN:DAYLIGHT
TZOFFSETFROM:+0100
TZOFFSETTO:+0200
TZNAME:CEST
DTSTART:20250330T010000
END:DAYLIGHT
BEGIN:STANDARD
TZOFFSETFROM:+0200
TZOFFSETTO:+0100
TZNAME:CET
DTSTART:20251026T010000
END:STANDARD
BEGIN:DAYLIGHT
TZOFFSETFROM:+0100
TZOFFSETTO:+0200
TZNAME:CEST
DTSTART:20260329T010000
END:DAYLIGHT
BEGIN:STANDARD
TZOFFSETFROM:+0200
TZOFFSETTO:+0100
TZNAME:CET
DTSTART:20261025T010000
END:STANDARD
END:VTIMEZONE
BEGIN:VTIMEZONE
TZID:America/Toronto
BEGIN:DAYLIGHT
TZOFFSETFROM:-0500
TZOFFSETTO:-0400
TZNAME:EDT
DTSTART:20240310T070000
END:DAYLIGHT
BEGIN:STANDARD
TZOFFSETFROM:-0400
TZOFFSETTO:-0500
TZNAME:EST
DTSTART:20241103T060000
END:STANDARD
BEGIN:DAYLIGHT
TZOFFSETFROM:-0500
TZOFFSETTO:-0400
TZNAME:EDT
DTSTART:20250309T070000
END:DAYLIGHT
BEGIN:STANDARD
TZOFFSETFROM:-0400
TZOFFSETTO:-0500
TZNAME:EST
DTSTART:20251102T060000
END:STANDARD
BEGIN:DAYLIGHT
TZOFFSETFROM:-0500
TZOFFSETTO:-0400
TZNAME:EDT
DTSTART:20260308T070000
END:DAYLIGHT
BEGIN:STANDARD
TZOFFSETFROM:-0400
TZOFFSETTO:-0500
TZNAME:EST
DTSTART:20261101T060000
END:STANDARD
END:VTIMEZONE
BEGIN:VEVENT
DTSTART;TZID=Europe/Paris:20251007T183000
DTEND;TZID=Europe/Paris:20251007T200000
DTSTAMP:20260425T010110
CREATED:20250819T081219Z
LAST-MODIFIED:20250819T081219Z
UID:6930-1759861800-1759867200@stoagallica.fr
SUMMARY:[Apéro-philo Lausanne] Sagesses d’orient vues d’Occident: engagement politique et social
DESCRIPTION:Engagement politique et social avec Maël Goarzin et Frédéric Richard \nLes principes de justice et de responsabilité justifient pleinement l’engagement politique et social préconisé par les sagesses d’Orient et d’Occident. Mais comment concilier la poursuite du bonheur individuel et la recherche de l’intérêt commun ? Quel rôle jouent\, dans nos sociétés\, les personnes en quête de sagesse ? Quels liens entretiennent-elles avec le politique ? \nMaël Goarzin est docteur en philosophie antique\, spécialiste des sagesses antiques et de la philosophie comme manière de vivre\, de l’Antiquité à nos jours. Frédéric Richard est doctorant en sciences des religions à l’Université de Lausanne. \nMaël Goarzin et Frédéric Richard auront le plaisir d’échanger avec vous mardi 7 octobre à 18h30\, sur le site Riponne de la BCUL\, à Lausanne (Suisse). Entrée libre sur inscription. L’événement fait partie d’un cycle de rencontres philosophiques intitulé Sagesses d’orient vues d’occident. Elles sont organisées par la BCU Lausanne et co-animées par Maël Goarzin et Frédéric Richard.
URL:https://stoagallica.fr/event/apero-philo-lausanne-sagesses-dorient-vues-doccident-engagement-politique-et-social/
LOCATION:Salle du Sénat\, Palais de Rumine\, Lausanne\, Suisse
ATTACH;FMTTYPE=image/jpeg:https://stoagallica.fr/wp-content/uploads/2025/01/15.11.2023-BCUL_00022187.jpg
ORGANIZER;CN="BCUL":MAILTO:manifestations@bcul.ch
END:VEVENT
BEGIN:VEVENT
DTSTART;TZID=Europe/Paris:20251009T190000
DTEND;TZID=Europe/Paris:20251009T210000
DTSTAMP:20260425T010110
CREATED:20250912T141208Z
LAST-MODIFIED:20250912T141208Z
UID:6967-1760036400-1760043600@stoagallica.fr
SUMMARY:[Lausanne] Groupe de lecture du Portique de Suisse romande
DESCRIPTION:Le portique Stoa Gallica de Suisse romande met sur pied un groupe de lecture et de discussion sur le stoïcisme. Le groupe se retrouve une fois par mois\, dans le but de parcourir des textes stoïciens et d’échanger sur la compréhension théorique et l’appropriation pratique qu’ils permettent. \nLe groupe a choisi de débuter ses activités par la lecture suivie du Manuel d’Épictète\, dont une partie sera parcourue et discutée à chaque rencontre. \nLa prochaine rencontre aura lieu le jeudi 9 octobre à 19h (le lieu précis sera communiqué directement aux personnes intéressées)\, et nous poursuivrons notre lecture à partir du chapitre 6. \nLes rencontres ont lieu en présentiel à Lausanne et peuvent accueillir jusqu’à vingt personnes. Elles sont animées par Konstantin Büchler\, membre de Stoa Gallica. \nPour vous inscrire ou pour toute autre question\, écrivez à stoagallica.lausanne@gmail.com\, en indiquant votre nom\, votre prénom et si vous êtes déjà adhérent à Stoa Gallica.
URL:https://stoagallica.fr/event/lausanne-groupe-de-lecture-du-portique-de-suisse-romande-7/
LOCATION:Lausanne\, Lausanne\, Suisse
CATEGORIES:Groupe de lecture
ATTACH;FMTTYPE=image/jpeg:https://stoagallica.fr/wp-content/uploads/2025/09/Groupe-de-lecture_20250911_2.jpeg
ORGANIZER;CN="Portique Stoa Gallica de Lausanne":MAILTO:mael.goarzin@yahoo.fr
END:VEVENT
BEGIN:VEVENT
DTSTART;TZID=Europe/Paris:20251011T143000
DTEND;TZID=Europe/Paris:20251011T180000
DTSTAMP:20260425T010110
CREATED:20250617T095235Z
LAST-MODIFIED:20250922T210338Z
UID:6817-1760193000-1760205600@stoagallica.fr
SUMMARY:Hommage à Pierre Hadot
DESCRIPTION:Rejoignez-nous samedi 11 octobre 2025 au Collège de France et sur l’allée Pierre Hadot pour rendre hommage à Pierre Hadot\, philosophe et historien de la philosophie. \nCet hommage\, co-organisé par le cercle des Amis de Pierre Hadot\, l’association Stoa Gallica et le cercle philosophique Le Jardin de Philodème\, se déroulera à Paris (5e) sur l’allée Pierre Hadot puis au Collège de France\, de 14h30 à 18h\, et sera suivi d’un temps convivial. \n14h30 – 15h30\n 📍 Square Paul Langevin\, Allée Pierre Hadot\, Paris 5e\n • Témoignages et échanges autour de la vie et de l’œuvre de Pierre Hadot \n16h – 18h\n 📍 Collège de France – 11 Pl. Marcelin Berthelot\, Paris 5e – Amphithéâtre Maurice Halbwachs\n • Mot d’accueil – Jean-Claude Brémaud\, Maël Goarzin et Ludovic Jeanne\n• Pierre Hadot\, toujours – Philippe Hoffmann\, Anne-Lise Darras-Worms\, Yoko Orimo\, Frédéric Worms et Michael Chase\n• Vivre en philosophe\, aujourd’hui : Stoa Gallica et Le Jardin de Philodème – Maël Goarzin et Ludovic Jeanne\n• Demain\, échanges avec le public et ouverture \n18h30\n 📍 Brasserie O’Neil – 20 Rue des Canettes\, Paris 6e\n • Verre de l’amitié (consommation obligatoire à la charge de chacun et chacune) \nL’entrée est gratuite\, mais l’inscription est obligatoire pour pouvoir franchir les portes du Collège de France. N’hésitez pas à vous inscrire dès maintenant\, pour assurer votre place avec nous ce jour-là: \nInscrivez-vous en ligne \nCet événement sera l’occasion d’échanges riches et variés et de belles rencontres entre les personnes présentes. Ouvert à toutes et à tous\, cet événement permettra d’entendre le témoignage de personnes qui ont bien connu Pierre Hadot ou dont les activités sont nourries par la lecture de ses ouvrages. \nNous aurons l’occasion de souligner son apport dans la compréhension de la philosophie antique comme manière de vivre et l’importance des exercices spirituels dans le choix de vie philosophique. \n\nINFOS PRATIQUES\nLieux : Allée Pierre Hadot\, Square Paul Langevin\, Paris 5e\nCollège de France\, 11 Place Marcelin Berthelot\, Paris 5e \nDate : Samedi 11 octobre 2025 (14h30 – 18h) \nInscription obligatoire : https://forms.gle/XGyqEmtiEbcBy4Zn6 \nContact : stoa.gallica@gmail.com
URL:https://stoagallica.fr/event/hommage-a-pierre-hadot/
LOCATION:Paris\, Paris\, 75011\, France
CATEGORIES:Hommage à Pierre Hadot
ATTACH;FMTTYPE=image/jpeg:https://stoagallica.fr/wp-content/uploads/2025/06/HommagePierreHadot_Affiche_Carre.jpg
END:VEVENT
BEGIN:VEVENT
DTSTART;TZID=Europe/Paris:20251018T103000
DTEND;TZID=Europe/Paris:20251018T123000
DTSTAMP:20260425T010110
CREATED:20250818T193144Z
LAST-MODIFIED:20250818T193144Z
UID:6926-1760783400-1760790600@stoagallica.fr
SUMMARY:[Paris] Rencontre du Portique Stoa Gallica
DESCRIPTION:Le portique Stoa Gallica de Paris organise une rencontre le samedi 18 octobre de 10 h 30 à 12 h 30 à Paris 11 (lieu précis communiqué après inscription).\n\nCe rendez-vous est ouvert à toutes les personnes intéressées de près ou de loin par la philosophie du stoïcisme.\n\n\nLe portique Stoa Gallica de Paris est un lieu pour :\n– discuter du stoïcisme (notions théoriques\, histoire\, grandes figures\, bienfaits\, limites\, questionnements\, actualisation aujourd’hui…) ;\n– pratiquer le stoïcisme (propositions d’exercices philosophiques seuls et à plusieurs\, avec débriefing collectif\, et action sociale en lien avec d’autres associations).\n\nIl est animé par Jean-Baptiste Roncari et Olivier Martel\, membres actifs de Stoa Gallica.\n\nPour vous inscrire ou toute autre question\, écrivez-à stoagallica.paris@gmail.com\, en indiquant votre nom\, votre prénom et si vous êtes adhérent à Stoa Gallica (ce n’est pas un pré-requis mais cela soutient directement le développement du portique).\n\nLe nombre de places est limité à 20 personnes.
URL:https://stoagallica.fr/event/paris-rencontre-du-portique-stoa-gallica-11/
LOCATION:Paris\, Paris\, 75011\, France
ATTACH;FMTTYPE=image/jpeg:https://stoagallica.fr/wp-content/uploads/2025/08/20250308_104500-scaled.jpg
END:VEVENT
BEGIN:VEVENT
DTSTART;TZID=America/Toronto:20251026T160000
DTEND;TZID=America/Toronto:20251026T180000
DTSTAMP:20260425T010110
CREATED:20251011T223658Z
LAST-MODIFIED:20251203T013942Z
UID:7043-1761494400-1761501600@stoagallica.fr
SUMMARY:[Montréal] Rencontre virtuelle du Portique Stoa Gallica
DESCRIPTION:Le portique Stoa Gallica de Montréal organise sa rencontre virtuelle exceptionnellement le dimanche 26 octobre de 16h à 18h (un lien Zoom sera envoyé aux personnes participantes). \nCe rendez-vous est ouvert à toutes les personnes qui s’intéressent au stoïcisme dans la vie quotidienne. Cette rencontre-ci portera sur la Semaine stoïcienne 2025 : https://stoagallica.fr/participez-a-la-semaine-stoicienne-du-27-octobre-au-2-novembre-2025-en-ligne/ \nPour vous inscrire ou pour toute autre question\, écrivez à stoagallica.montreal@gmail.com\, en indiquant votre nom\, votre prénom\, et si vous êtes déjà adhérent à Stoa Gallica. \nLe nombre de places est limité à 40 personnes pour cette rencontre. \nLe portique Stoa Gallica de Montréal est un lieu pour : \n– discuter du stoïcisme dans la vie quotidienne (en particulier dans les contextes familiaux\, amicaux\, et professionnels) ;\n– discuter du stoïcisme et des enjeux minoritaires (en particulier liés au féminisme\, au capacitisme\, ainsi qu’aux identités queers et minoritaires). \nIl est animé par Sylvain Margot\, membre actif de Stoa Gallica. Les rencontres auront lieu le dernier vendredi de chaque mois\, en alternant les modes présentiels et virtuels d’une rencontre à l’autre. \n 
URL:https://stoagallica.fr/event/montreal-rencontre-virtuelle-du-portique-stoa-gallica-3/
LOCATION:Montréal\, Canada
ATTACH;FMTTYPE=image/jpeg:https://stoagallica.fr/wp-content/uploads/2025/01/Montreal-canada-parc-urban.jpg
END:VEVENT
END:VCALENDAR