BEGIN:VCALENDAR
VERSION:2.0
PRODID:-// - ECPv6.15.20//NONSGML v1.0//EN
CALSCALE:GREGORIAN
METHOD:PUBLISH
X-ORIGINAL-URL:https://stoagallica.fr
X-WR-CALDESC:Évènements pour 
REFRESH-INTERVAL;VALUE=DURATION:PT1H
X-Robots-Tag:noindex
X-PUBLISHED-TTL:PT1H
BEGIN:VTIMEZONE
TZID:Europe/Paris
BEGIN:DAYLIGHT
TZOFFSETFROM:+0100
TZOFFSETTO:+0200
TZNAME:CEST
DTSTART:20250330T010000
END:DAYLIGHT
BEGIN:STANDARD
TZOFFSETFROM:+0200
TZOFFSETTO:+0100
TZNAME:CET
DTSTART:20251026T010000
END:STANDARD
BEGIN:DAYLIGHT
TZOFFSETFROM:+0100
TZOFFSETTO:+0200
TZNAME:CEST
DTSTART:20260329T010000
END:DAYLIGHT
BEGIN:STANDARD
TZOFFSETFROM:+0200
TZOFFSETTO:+0100
TZNAME:CET
DTSTART:20261025T010000
END:STANDARD
BEGIN:DAYLIGHT
TZOFFSETFROM:+0100
TZOFFSETTO:+0200
TZNAME:CEST
DTSTART:20270328T010000
END:DAYLIGHT
BEGIN:STANDARD
TZOFFSETFROM:+0200
TZOFFSETTO:+0100
TZNAME:CET
DTSTART:20271031T010000
END:STANDARD
END:VTIMEZONE
BEGIN:VTIMEZONE
TZID:America/Toronto
BEGIN:DAYLIGHT
TZOFFSETFROM:-0500
TZOFFSETTO:-0400
TZNAME:EDT
DTSTART:20250309T070000
END:DAYLIGHT
BEGIN:STANDARD
TZOFFSETFROM:-0400
TZOFFSETTO:-0500
TZNAME:EST
DTSTART:20251102T060000
END:STANDARD
BEGIN:DAYLIGHT
TZOFFSETFROM:-0500
TZOFFSETTO:-0400
TZNAME:EDT
DTSTART:20260308T070000
END:DAYLIGHT
BEGIN:STANDARD
TZOFFSETFROM:-0400
TZOFFSETTO:-0500
TZNAME:EST
DTSTART:20261101T060000
END:STANDARD
BEGIN:DAYLIGHT
TZOFFSETFROM:-0500
TZOFFSETTO:-0400
TZNAME:EDT
DTSTART:20270314T070000
END:DAYLIGHT
BEGIN:STANDARD
TZOFFSETFROM:-0400
TZOFFSETTO:-0500
TZNAME:EST
DTSTART:20271107T060000
END:STANDARD
END:VTIMEZONE
BEGIN:VEVENT
DTSTART;TZID=Europe/Paris:20260108T190000
DTEND;TZID=Europe/Paris:20260108T210000
DTSTAMP:20260424T195732
CREATED:20251201T170605Z
LAST-MODIFIED:20251201T170605Z
UID:7151-1767898800-1767906000@stoagallica.fr
SUMMARY:[Lausanne] Groupe de lecture du Portique de Lausanne
DESCRIPTION:Le portique Stoa Gallica de Lausanne anime un groupe de lecture et de discussion sur le stoïcisme. Le groupe se retrouve une fois par mois\, dans le but de parcourir des textes stoïciens et d’échanger sur la compréhension théorique et l’appropriation pratique qu’ils permettent. \nLe groupe a choisi de débuter ses activités par la lecture suivie du Manuel d’Épictète\, dont une partie sera parcourue et discutée à chaque rencontre. \nLa prochaine rencontre aura lieu le jeudi 8 janvier à 19h (le lieu précis sera communiqué directement aux personnes intéressées). \nLes rencontres ont lieu en présentiel à Lausanne (près de la gare) et peuvent accueillir jusqu’à vingt personnes. Elles sont animées par Konstantin Büchler\, membre de Stoa Gallica. \nPour vous inscrire ou pour toute autre question\, écrivez à stoagallica.lausanne@gmail.com\, en indiquant votre nom\, votre prénom et si vous êtes déjà adhérent à Stoa Gallica.
URL:https://stoagallica.fr/event/lausanne-groupe-de-lecture-du-portique-de-lausanne/
LOCATION:Lausanne\, Lausanne\, Suisse
CATEGORIES:Groupe de lecture
ATTACH;FMTTYPE=image/jpeg:https://stoagallica.fr/wp-content/uploads/2025/09/Groupe-de-lecture_20250911_2.jpeg
ORGANIZER;CN="Portique Stoa Gallica de Lausanne":MAILTO:mael.goarzin@yahoo.fr
END:VEVENT
BEGIN:VEVENT
DTSTART;TZID=Europe/Paris:20260124T103000
DTEND;TZID=Europe/Paris:20260124T123000
DTSTAMP:20260424T195732
CREATED:20260113T142513Z
LAST-MODIFIED:20260113T142513Z
UID:7325-1769250600-1769257800@stoagallica.fr
SUMMARY:[Paris] Rencontre du Portique Stoa Gallica
DESCRIPTION:Le portique Stoa Gallica de Paris organise une rencontre le samedi 24 janvier de 10 h 30 à 12 h 30 à Paris 11 (lieu précis communiqué après inscription).\n\nCe rendez-vous est ouvert à toutes les personnes intéressées de près ou de loin par la philosophie du stoïcisme.\n\n\nLe portique Stoa Gallica de Paris est un lieu pour :\n– discuter du stoïcisme (notions théoriques\, histoire\, grandes figures\, bienfaits\, limites\, questionnements\, actualisation aujourd’hui…) ;\n– pratiquer le stoïcisme (propositions d’exercices philosophiques seuls et à plusieurs\, avec débriefing collectif\, et action sociale en lien avec d’autres associations).\n\nIl est animé par Jean-Baptiste Roncari et Olivier Martel\, membres actifs de Stoa Gallica.\n\nPour vous inscrire ou toute autre question\, écrivez-à stoagallica.paris@gmail.com\, en indiquant votre nom\, votre prénom et si vous êtes adhérent à Stoa Gallica (ce n’est pas un pré-requis mais cela soutient directement le développement du portique).\n\nLe nombre de places est limité à 20 personnes.
URL:https://stoagallica.fr/event/paris-rencontre-du-portique-stoa-gallica-13/
LOCATION:Paris\, Paris\, 75011\, France
CATEGORIES:Portique
ATTACH;FMTTYPE=image/jpeg:https://stoagallica.fr/wp-content/uploads/2026/01/WhatsApp-Image-2025-12-15-at-20.44.31-5.jpeg
END:VEVENT
BEGIN:VEVENT
DTSTART;TZID=America/Toronto:20260130T170000
DTEND;TZID=America/Toronto:20260130T190000
DTSTAMP:20260424T195732
CREATED:20260101T110015Z
LAST-MODIFIED:20251223T222004Z
UID:7294-1769792400-1769799600@stoagallica.fr
SUMMARY:[Montréal] Rencontre du Portique Stoa Gallica
DESCRIPTION:Le portique Stoa Gallica de Montréal organise sa première rencontre de l’année 2026 le vendredi 30 janvier de 17h à 19h à BANQ (si le Destin le permet). \nNous recevrons Isabelle Chouinard\, professeure de philosophie à l’Université du Québec À Montréal\, spécialiste des philosophies cynique et stoïcienne\, ainsi que de l’histoire féministe de la philosophie. Elle a très généreusement accepté d’animer cette rencontre autour du thème de la femme dans le stoïcisme antique et contemporain. \nEn raison de la taille réduite des salles de BANQ disponibles au public\, le nombre de places est limité à 12 personnes. La priorité sera donnée aux membres réguliers du Portique qui auront confirmé leur présence. \nLe Portique de Montréal est dirigé par Sylvain Margot\, membre actif de Stoa Gallica. Nos rencontres mensuelles sont ouvertes à toutes les personnes qui s’intéressent au stoïcisme dans la vie quotidienne et sont un lieu pour discuter : \n– du stoïcisme dans la vie quotidienne (en particulier dans les contextes familiaux\, amicaux\, et professionnels) ;\n– du stoïcisme et des enjeux minoritaires (liés\, entre autre\, au féminisme\, au capacitisme\, ainsi qu’aux identités queers et minoritaires). \nLes rencontres ont lieu le dernier vendredi de chaque mois\, en alternant les modes présentiels et virtuels d’une rencontre à l’autre. \nPour vous inscrire aux rencontres du Portique ou pour toute autre question\, écrivez à stoagallica.montreal@gmail.com\, en indiquant votre nom\, votre prénom\, et si vous êtes membre de l’association Stoa Gallica.
URL:https://stoagallica.fr/event/montreal-rencontre-du-portique-stoa-gallica-3/
LOCATION:Montréal\, Canada
CATEGORIES:Café philo
ATTACH;FMTTYPE=image/jpeg:https://stoagallica.fr/wp-content/uploads/2025/09/Montreal.jpg
END:VEVENT
END:VCALENDAR