BEGIN:VCALENDAR
VERSION:2.0
PRODID:-// - ECPv6.15.20//NONSGML v1.0//EN
CALSCALE:GREGORIAN
METHOD:PUBLISH
X-ORIGINAL-URL:https://stoagallica.fr
X-WR-CALDESC:Évènements pour 
REFRESH-INTERVAL;VALUE=DURATION:PT1H
X-Robots-Tag:noindex
X-PUBLISHED-TTL:PT1H
BEGIN:VTIMEZONE
TZID:Europe/Paris
BEGIN:DAYLIGHT
TZOFFSETFROM:+0100
TZOFFSETTO:+0200
TZNAME:CEST
DTSTART:20250330T010000
END:DAYLIGHT
BEGIN:STANDARD
TZOFFSETFROM:+0200
TZOFFSETTO:+0100
TZNAME:CET
DTSTART:20251026T010000
END:STANDARD
BEGIN:DAYLIGHT
TZOFFSETFROM:+0100
TZOFFSETTO:+0200
TZNAME:CEST
DTSTART:20260329T010000
END:DAYLIGHT
BEGIN:STANDARD
TZOFFSETFROM:+0200
TZOFFSETTO:+0100
TZNAME:CET
DTSTART:20261025T010000
END:STANDARD
BEGIN:DAYLIGHT
TZOFFSETFROM:+0100
TZOFFSETTO:+0200
TZNAME:CEST
DTSTART:20270328T010000
END:DAYLIGHT
BEGIN:STANDARD
TZOFFSETFROM:+0200
TZOFFSETTO:+0100
TZNAME:CET
DTSTART:20271031T010000
END:STANDARD
END:VTIMEZONE
BEGIN:VTIMEZONE
TZID:America/Toronto
BEGIN:DAYLIGHT
TZOFFSETFROM:-0500
TZOFFSETTO:-0400
TZNAME:EDT
DTSTART:20250309T070000
END:DAYLIGHT
BEGIN:STANDARD
TZOFFSETFROM:-0400
TZOFFSETTO:-0500
TZNAME:EST
DTSTART:20251102T060000
END:STANDARD
BEGIN:DAYLIGHT
TZOFFSETFROM:-0500
TZOFFSETTO:-0400
TZNAME:EDT
DTSTART:20260308T070000
END:DAYLIGHT
BEGIN:STANDARD
TZOFFSETFROM:-0400
TZOFFSETTO:-0500
TZNAME:EST
DTSTART:20261101T060000
END:STANDARD
BEGIN:DAYLIGHT
TZOFFSETFROM:-0500
TZOFFSETTO:-0400
TZNAME:EDT
DTSTART:20270314T070000
END:DAYLIGHT
BEGIN:STANDARD
TZOFFSETFROM:-0400
TZOFFSETTO:-0500
TZNAME:EST
DTSTART:20271107T060000
END:STANDARD
END:VTIMEZONE
BEGIN:VEVENT
DTSTART;TZID=Europe/Paris:20260205T190000
DTEND;TZID=Europe/Paris:20260205T210000
DTSTAMP:20260424T182839
CREATED:20251201T170820Z
LAST-MODIFIED:20260115T180845Z
UID:7153-1770318000-1770325200@stoagallica.fr
SUMMARY:[Lausanne] Groupe de lecture du Portique Stoa Gallica
DESCRIPTION:Le portique Stoa Gallica de Lausanne anime un groupe de lecture et de discussion sur le stoïcisme. Le groupe se retrouve une fois par mois\, dans le but de parcourir des textes stoïciens et d’échanger sur la compréhension théorique et l’appropriation pratique qu’ils permettent. \nLe groupe a choisi de débuter ses activités par la lecture suivie du Manuel d’Épictète\, dont une partie sera parcourue et discutée à chaque rencontre. \nLa prochaine rencontre aura lieu le jeudi 5 février à 19h (le lieu précis sera communiqué directement aux personnes intéressées). \nLes rencontres ont lieu en présentiel à Lausanne (près de la gare) et peuvent accueillir jusqu’à vingt personnes. Elles sont animées par Konstantin Büchler\, membre de Stoa Gallica. \nPour vous inscrire ou pour toute autre question\, écrivez à stoagallica.lausanne@gmail.com\, en indiquant votre nom\, votre prénom et si vous êtes déjà adhérent à Stoa Gallica.
URL:https://stoagallica.fr/event/lausanne-groupe-de-lecture-du-portique-de-lausanne-2/
LOCATION:Lausanne\, Lausanne\, Suisse
CATEGORIES:Groupe de lecture
ATTACH;FMTTYPE=image/jpeg:https://stoagallica.fr/wp-content/uploads/2025/09/Groupe-de-lecture_20250911_2.jpeg
ORGANIZER;CN="Portique Stoa Gallica de Lausanne":MAILTO:mael.goarzin@yahoo.fr
END:VEVENT
BEGIN:VEVENT
DTSTART;TZID=Europe/Paris:20260207T092000
DTEND;TZID=Europe/Paris:20260207T153000
DTSTAMP:20260424T182839
CREATED:20260122T080004Z
LAST-MODIFIED:20260128T224937Z
UID:7359-1770456000-1770478200@stoagallica.fr
SUMMARY:[En ligne] Colloque « Mobiliser la philosophie stoïcienne en entreprise »
DESCRIPTION:Agir et jouer son rôle\, sans subir\, au sein des organisations\nL’Université Paris Dauphine – PSL\, l’IPC-Facultés Libres de Philosophie et de Psychologie\, le Cabinet Chrysippe-R&D et l’association Stoa Gallica organisent samedi 7 février 2026 (9H20-15H30)\, en visioconférence\, le Colloque : « Mobiliser la philosophie stoïcienne en entreprise ». Cela\, dans le cadre des Programmes « Management & Coaching » de Dauphine et de Chrysippe. \nRéunissant des universitaires et des consultants\, issus de la philosophie et des sciences managériales\, ce colloque vise à mettre en lumière les apports conceptuels et opérationnels du stoïcisme face aux défis actuels du management et du travail au sein des organisations : équilibrer sens\, bien-être professionnel et orientation action. \nCet événement s’adresse aux managers\, dirigeants\, consultants\, coachs et professionnels des ressources humaines souhaitant enrichir\, dans le cadre de la philosophie stoïcienne\, leur posture professionnelle et renforcer leur capacité à articuler engagement\, éthique\, résilience\, rapport aux difficultés\, apaisement et action au service de ses rôles professionnels. \nCe colloque est l’occasion de prendre de la hauteur sur les pratiques managériales contemporaines et d’alimenter un dialogue fertile entre la pensée stoïcienne et l’action opérationnelle ici et maintenant en entreprise. \n\nParticipation gratuite \nFormulaire d’inscription \n\n \n\nIntervenants\nDavid Abonneau (maître de conférences en sciences de gestion\, Université Paris Dauphine PSL\, co-directeur des programmes « Management & Coaching » Dauphine-Chrysippe). \nMichael Pichat (maître de conférences en psychologie\, fondateur du Cabinet Chrysippe\, co-directeur des programmes « Management & Coaching » Dauphine-Chrysippe). \nEmmanuel Brochier (maître de conférences en philosophie\, directeur et doyen de l’IPC- Facultés Libres de Philosophie et de Psychologie). \nGuillemette de Cherfdebien (docteure en philosophie\, enseignant-chercheur titulaire de l’IPC- Facultés Libres de Philosophie et de Psychologie). \nBenoît Schneckenburger (docteur et professeur de philosophie en classes préparatoires\, politologue\, jury d’agrégation). \nMaël Goarzin (docteur en philosophie\, co-fondateur de l’association Stoa Gallica).
URL:https://stoagallica.fr/event/en-ligne-colloque-mobiliser-la-philosophie-stoicienne-en-entreprise/
LOCATION:Virtuel
CATEGORIES:Colloque universitaire
ATTACH;FMTTYPE=image/jpeg:https://stoagallica.fr/wp-content/uploads/2026/01/1768806019083.jpg
ORGANIZER;CN="Cabinet Chrysippe":MAILTO:https://www.chrysippe.org/
END:VEVENT
BEGIN:VEVENT
DTSTART;TZID=Europe/Paris:20260221T103000
DTEND;TZID=Europe/Paris:20260221T123000
DTSTAMP:20260424T182839
CREATED:20260113T142631Z
LAST-MODIFIED:20260113T142631Z
UID:7328-1771669800-1771677000@stoagallica.fr
SUMMARY:[Paris] Rencontre du Portique Stoa Gallica
DESCRIPTION:Le portique Stoa Gallica de Paris organise une rencontre le samedi 21 février de 10 h 30 à 12 h 30 à Paris 11 (lieu précis communiqué après inscription).\n\nCe rendez-vous est ouvert à toutes les personnes intéressées de près ou de loin par la philosophie du stoïcisme.\n\n\nLe portique Stoa Gallica de Paris est un lieu pour :\n– discuter du stoïcisme (notions théoriques\, histoire\, grandes figures\, bienfaits\, limites\, questionnements\, actualisation aujourd’hui…) ;\n– pratiquer le stoïcisme (propositions d’exercices philosophiques seuls et à plusieurs\, avec débriefing collectif\, et action sociale en lien avec d’autres associations).\n\nIl est animé par Jean-Baptiste Roncari et Olivier Martel\, membres actifs de Stoa Gallica.\n\nPour vous inscrire ou toute autre question\, écrivez-à stoagallica.paris@gmail.com\, en indiquant votre nom\, votre prénom et si vous êtes adhérent à Stoa Gallica (ce n’est pas un pré-requis mais cela soutient directement le développement du portique).\n\nLe nombre de places est limité à 20 personnes.
URL:https://stoagallica.fr/event/paris-rencontre-du-portique-stoa-gallica-14/
LOCATION:Paris\, Paris\, 75011\, France
CATEGORIES:Portique
ATTACH;FMTTYPE=image/jpeg:https://stoagallica.fr/wp-content/uploads/2026/01/WhatsApp-Image-2025-12-15-at-20.44.31-5.jpeg
END:VEVENT
BEGIN:VEVENT
DTSTART;TZID=Europe/Paris:20260224T183000
DTEND;TZID=Europe/Paris:20260224T200000
DTSTAMP:20260424T182839
CREATED:20260115T180718Z
LAST-MODIFIED:20260115T215933Z
UID:7337-1771957800-1771963200@stoagallica.fr
SUMMARY:[Lausanne] Les sceptiques: apprendre à douter (apéro-philo)
DESCRIPTION:Les sceptiques: apprendre à douter avec Maël Goarzin et Florian Cova \nAprès une présentation du mode de vie sceptique dans l’Antiquité\, nous interrogerons la figure du sceptique contemporain ainsi que les liens possibles entre doute philosophique et esprit critique. \nFlorian Cova est enseignant à l’Institut Florimont et chercheur au Centre Interfacultaire en Sciences Affectives à Genève. \nMaël Goarzin est docteur en philosophie antique\, spécialiste des sagesses antiques et de la philosophie comme manière de vivre\, de l’Antiquité à nos jours. \nMaël Goarzin et Florian Cova auront le plaisir d’échanger avec vous mardi 24 février à 18h30\, sur le site Riponne de la BCUL\, à Lausanne (Suisse). Entrée libre sur inscription. L’événement fait partie d’un cycle de rencontres philosophiques intitulé La philosophie comme manière de vivre : de Socrate à nos jours. Elles sont organisées par la BCU Lausanne et animées par Maël Goarzin.
URL:https://stoagallica.fr/event/apero-philo-lausanne-les-sceptiques-apprendre-a-douter/
LOCATION:Palais de Rumine\, Place de la Riponne 6\, Lausanne\, Vaud\, 1005\, Switzerland
CATEGORIES:Café philo
ATTACH;FMTTYPE=image/jpeg:https://stoagallica.fr/wp-content/uploads/2024/01/15.11.2023-BCUL_00022192.jpeg
ORGANIZER;CN="BCUL":MAILTO:manifestations@bcul.ch
END:VEVENT
BEGIN:VEVENT
DTSTART;TZID=America/Toronto:20260228T100000
DTEND;TZID=America/Toronto:20260228T120000
DTSTAMP:20260424T182839
CREATED:20260131T230042Z
LAST-MODIFIED:20260203T004735Z
UID:7349-1772272800-1772280000@stoagallica.fr
SUMMARY:[Montréal] Rencontre virtuelle du Portique Stoa Gallica
DESCRIPTION:Le portique Stoa Gallica de Montréal organise sa première rencontre virtuelle de l’année 2026 le samedi 28 février de 10h à 12h. Le lien vers la rencontre sera envoyé aux personnes participantes la semaine qui précèdera l’événement. \nNous recevrons Maël Goarzin\, président de l’association Stoa Gallica\, et docteur en philosophie de l’Université de Lausanne et de l’Ecole Pratique des Hautes Études de Paris. Il a très généreusement accepté d’animer cette rencontre autour du thème de la joie et des bonnes passions dans le stoïcisme. \nLe nombre de places est limité à 40 personnes. La priorité sera donnée aux membres réguliers du Portique qui auront confirmé leur présence. \nLe Portique de Montréal est dirigé par Sylvain Margot\, membre actif de Stoa Gallica. Nos rencontres mensuelles sont ouvertes à toutes les personnes qui s’intéressent au stoïcisme dans la vie quotidienne et sont un lieu pour discuter : \n– du stoïcisme dans la vie quotidienne (en particulier dans les contextes familiaux\, amicaux\, et professionnels) ;\n– du stoïcisme et des enjeux minoritaires (liés\, entre autre\, au féminisme\, au capacitisme\, ainsi qu’aux identités queers et minoritaires). \nLes rencontres ont lieu le dernier vendredi de chaque mois\, en alternant les modes présentiels et virtuels d’une rencontre à l’autre. \nPour vous inscrire aux rencontres du Portique ou pour toute autre question\, écrivez à stoagallica.montreal@gmail.com\, en indiquant votre nom\, votre prénom\, et si vous êtes membre de l’association Stoa Gallica.
URL:https://stoagallica.fr/event/montreal-rencontre-virtuelle-du-portique-stoa-gallica-4/
LOCATION:Virtuel
CATEGORIES:Café philo
ATTACH;FMTTYPE=image/jpeg:https://stoagallica.fr/wp-content/uploads/2025/09/Montreal.jpg
END:VEVENT
END:VCALENDAR